BEGIN:VCALENDAR
VERSION:2.0
PRODID:-//Murrays Bay Primary School - ECPv6.10.1.1//NONSGML v1.0//EN
CALSCALE:GREGORIAN
METHOD:PUBLISH
X-ORIGINAL-URL:https://www.murraysbay.school.nz
X-WR-CALDESC:Events for Murrays Bay Primary School
REFRESH-INTERVAL;VALUE=DURATION:PT1H
X-Robots-Tag:noindex
X-PUBLISHED-TTL:PT1H
BEGIN:VTIMEZONE
TZID:Pacific/Auckland
BEGIN:STANDARD
TZOFFSETFROM:+1300
TZOFFSETTO:+1200
TZNAME:NZST
DTSTART:20190406T140000
END:STANDARD
BEGIN:DAYLIGHT
TZOFFSETFROM:+1200
TZOFFSETTO:+1300
TZNAME:NZDT
DTSTART:20190928T140000
END:DAYLIGHT
END:VTIMEZONE
BEGIN:VEVENT
DTSTART;VALUE=DATE:20190830
DTEND;VALUE=DATE:20190831
DTSTAMP:20260420T160351
CREATED:20190614T025144Z
LAST-MODIFIED:20190614T025144Z
UID:24827-1567123200-1567209599@www.murraysbay.school.nz
SUMMARY:PTA - Calendar Art Ordering Opens Today
DESCRIPTION:
URL:https://www.murraysbay.school.nz/event/pta-calendar-art-ordering-opens-today/
END:VEVENT
BEGIN:VEVENT
DTSTART;TZID=Pacific/Auckland:20190830T080000
DTEND;TZID=Pacific/Auckland:20190830T170000
DTSTAMP:20260420T160351
CREATED:20190516T033852Z
LAST-MODIFIED:20190516T033852Z
UID:24701-1567152000-1567184400@www.murraysbay.school.nz
SUMMARY:Student Government Fundraiser - Daffodil Day
DESCRIPTION:
URL:https://www.murraysbay.school.nz/event/student-government-fundraiser-daffodil-day/
END:VEVENT
BEGIN:VEVENT
DTSTART;TZID=Pacific/Auckland:20190830T090000
DTEND;TZID=Pacific/Auckland:20190830T223000
DTSTAMP:20260420T160351
CREATED:20190808T031733Z
LAST-MODIFIED:20190808T031733Z
UID:25004-1567155600-1567204200@www.murraysbay.school.nz
SUMMARY:Full School Assembly - Waipapa\, 9:15am
DESCRIPTION:
URL:https://www.murraysbay.school.nz/event/full-school-assembly-waipapa-915am-2/
END:VEVENT
BEGIN:VEVENT
DTSTART;VALUE=DATE:20190902
DTEND;VALUE=DATE:20190903
DTSTAMP:20260420T160351
CREATED:20190901T232702Z
LAST-MODIFIED:20190901T232702Z
UID:25115-1567382400-1567468799@www.murraysbay.school.nz
SUMMARY:Term 4 Flippa Ball Registrations Open
DESCRIPTION:
URL:https://www.murraysbay.school.nz/event/term-4-flippa-ball-registrations-open/
END:VEVENT
BEGIN:VEVENT
DTSTART;TZID=Pacific/Auckland:20190903T080000
DTEND;TZID=Pacific/Auckland:20190903T170000
DTSTAMP:20260420T160351
CREATED:20181130T004700Z
LAST-MODIFIED:20181130T004700Z
UID:23981-1567497600-1567530000@www.murraysbay.school.nz
SUMMARY:Harbour Rugby Tournament - Save Date
DESCRIPTION:
URL:https://www.murraysbay.school.nz/event/harbour-rugby-tournament-save-date-3/
END:VEVENT
BEGIN:VEVENT
DTSTART;TZID=Pacific/Auckland:20190903T140000
DTEND;TZID=Pacific/Auckland:20190903T150000
DTSTAMP:20260420T160351
CREATED:20181213T012302Z
LAST-MODIFIED:20190807T222721Z
UID:24146-1567519200-1567522800@www.murraysbay.school.nz
SUMMARY:PTA Meeting - Staffroom 7:00pm
DESCRIPTION:
URL:https://www.murraysbay.school.nz/event/pta-meeting-staffroom-200pm-4/
END:VEVENT
BEGIN:VEVENT
DTSTART;TZID=Pacific/Auckland:20190905T080000
DTEND;TZID=Pacific/Auckland:20190905T170000
DTSTAMP:20260420T160351
CREATED:20190825T235200Z
LAST-MODIFIED:20190825T235351Z
UID:25073-1567670400-1567702800@www.murraysbay.school.nz
SUMMARY:ICAS Testing - Science
DESCRIPTION:Block 1- 09:00am – 09:50am = Year 5 Pupils \nBlock 1- 10:00am – 10:50am = Year 4 Pupils \nBlock 2- 11:45am – 12:25pm = Year 6 Pupils
URL:https://www.murraysbay.school.nz/event/icas-testing-english/
END:VEVENT
BEGIN:VEVENT
DTSTART;TZID=Pacific/Auckland:20190906T090000
DTEND;TZID=Pacific/Auckland:20190906T103000
DTSTAMP:20260420T160351
CREATED:20190808T031830Z
LAST-MODIFIED:20190808T031830Z
UID:25006-1567760400-1567765800@www.murraysbay.school.nz
SUMMARY:Full School Assembly - Waipapa\, 9:15am
DESCRIPTION:
URL:https://www.murraysbay.school.nz/event/full-school-assembly-waipapa-915am-3/
END:VEVENT
BEGIN:VEVENT
DTSTART;TZID=Pacific/Auckland:20190906T100000
DTEND;TZID=Pacific/Auckland:20190906T130000
DTSTAMP:20260420T160351
CREATED:20181213T014043Z
LAST-MODIFIED:20190812T025016Z
UID:24148-1567764000-1567774800@www.murraysbay.school.nz
SUMMARY:PTA - Jesters Pie Fundraiser
DESCRIPTION:
URL:https://www.murraysbay.school.nz/event/pta-sausage-sizzle-5/
END:VEVENT
BEGIN:VEVENT
DTSTART;TZID=Pacific/Auckland:20190908T090000
DTEND;TZID=Pacific/Auckland:20190908T150000
DTSTAMP:20260420T160351
CREATED:20190726T014415Z
LAST-MODIFIED:20190726T014415Z
UID:24931-1567933200-1567954800@www.murraysbay.school.nz
SUMMARY:Y2 Science in a Van
DESCRIPTION:
URL:https://www.murraysbay.school.nz/event/y2-science-in-a-van/
END:VEVENT
BEGIN:VEVENT
DTSTART;VALUE=DATE:20190911
DTEND;VALUE=DATE:20190914
DTSTAMP:20260420T160351
CREATED:20190212T010529Z
LAST-MODIFIED:20190212T010529Z
UID:24309-1568160000-1568419199@www.murraysbay.school.nz
SUMMARY:Passion Project Week - Wednesday 11 Sept - 13 Sept
DESCRIPTION:More information to follow
URL:https://www.murraysbay.school.nz/event/passion-project-week-wednesday-11-sept-13-sept/
END:VEVENT
BEGIN:VEVENT
DTSTART;VALUE=DATE:20190913
DTEND;VALUE=DATE:20190914
DTSTAMP:20260420T160351
CREATED:20190614T025225Z
LAST-MODIFIED:20190614T025602Z
UID:24829-1568332800-1568419199@www.murraysbay.school.nz
SUMMARY:PTA - Calendar Art Ordering Closes Today
DESCRIPTION:Please allow 3-4 weeks for delivery
URL:https://www.murraysbay.school.nz/event/pta-calendar-art-ordering-closes-today/
END:VEVENT
BEGIN:VEVENT
DTSTART;TZID=Pacific/Auckland:20190917T080000
DTEND;TZID=Pacific/Auckland:20190917T170000
DTSTAMP:20260420T160351
CREATED:20190825T235234Z
LAST-MODIFIED:20200817T225906Z
UID:25075-1568707200-1568739600@www.murraysbay.school.nz
SUMMARY:POSTPONED ICAS Testing - English
DESCRIPTION:Block 1- 09:00am – 09:50am = Year 5 Pupils \nBlock 1- 10:00am – 10:50am = Year 4 Pupils \nBlock 2- 11:45am – 12:25pm = Year 6 Pupils
URL:https://www.murraysbay.school.nz/event/icas-testing-english-2/
END:VEVENT
BEGIN:VEVENT
DTSTART;TZID=Pacific/Auckland:20190917T133000
DTEND;TZID=Pacific/Auckland:20190917T143000
DTSTAMP:20260420T160351
CREATED:20190902T001646Z
LAST-MODIFIED:20190902T010714Z
UID:25120-1568727000-1568730600@www.murraysbay.school.nz
SUMMARY:Year 6 to attend MBIS Dance Assembly
DESCRIPTION:
URL:https://www.murraysbay.school.nz/event/year-6-to-attend-mbis-dance-assembly/
END:VEVENT
BEGIN:VEVENT
DTSTART;TZID=Pacific/Auckland:20190917T190000
DTEND;TZID=Pacific/Auckland:20190917T200000
DTSTAMP:20260420T160351
CREATED:20181217T211522Z
LAST-MODIFIED:20190813T214409Z
UID:24171-1568746800-1568750400@www.murraysbay.school.nz
SUMMARY:BoT Meeting - Boardroom\, 7pm
DESCRIPTION:
URL:https://www.murraysbay.school.nz/event/bot-meeting-boardroom-7pm-6/
END:VEVENT
BEGIN:VEVENT
DTSTART;TZID=Pacific/Auckland:20190918T080000
DTEND;TZID=Pacific/Auckland:20190918T150000
DTSTAMP:20260420T160351
CREATED:20190901T232732Z
LAST-MODIFIED:20190901T232732Z
UID:25117-1568793600-1568818800@www.murraysbay.school.nz
SUMMARY:Term 4 Flippa Ball Registrations Close 3pm
DESCRIPTION:
URL:https://www.murraysbay.school.nz/event/term-4-flippa-ball-registrations-close-3pm/
END:VEVENT
BEGIN:VEVENT
DTSTART;TZID=Pacific/Auckland:20190918T090000
DTEND;TZID=Pacific/Auckland:20190918T150000
DTSTAMP:20260420T160351
CREATED:20181203T222656Z
LAST-MODIFIED:20181203T222656Z
UID:24016-1568797200-1568818800@www.murraysbay.school.nz
SUMMARY:Mid Bays Netball Tournament
DESCRIPTION:
URL:https://www.murraysbay.school.nz/event/mid-bays-netball-tournament/
END:VEVENT
BEGIN:VEVENT
DTSTART;TZID=Pacific/Auckland:20190919T080000
DTEND;TZID=Pacific/Auckland:20190919T170000
DTSTAMP:20260420T160351
CREATED:20190825T235300Z
LAST-MODIFIED:20200817T225853Z
UID:25077-1568880000-1568912400@www.murraysbay.school.nz
SUMMARY:POSTPONED ICAS Testing - Maths
DESCRIPTION:Block 1- 09:00am – 09:50am = Year 5 Pupils \nBlock 1- 10:00am – 10:50am = Year 4 Pupils \nBlock 2- 11:45am – 12:25pm = Year 6 Pupils
URL:https://www.murraysbay.school.nz/event/icas-testing-maths/
END:VEVENT
BEGIN:VEVENT
DTSTART;TZID=Pacific/Auckland:20190920T090000
DTEND;TZID=Pacific/Auckland:20190920T103000
DTSTAMP:20260420T160351
CREATED:20190808T031913Z
LAST-MODIFIED:20190808T031913Z
UID:25008-1568970000-1568975400@www.murraysbay.school.nz
SUMMARY:Full School Assembly - Waipapa\, 9:15am
DESCRIPTION:
URL:https://www.murraysbay.school.nz/event/full-school-assembly-waipapa-915am-4/
END:VEVENT
BEGIN:VEVENT
DTSTART;TZID=Pacific/Auckland:20190920T090000
DTEND;TZID=Pacific/Auckland:20190920T150000
DTSTAMP:20260420T160351
CREATED:20181203T222929Z
LAST-MODIFIED:20181203T222929Z
UID:24018-1568970000-1568991600@www.murraysbay.school.nz
SUMMARY:Mid Bays Netball Tournament - Save Date
DESCRIPTION:Pinehurst School
URL:https://www.murraysbay.school.nz/event/mid-bays-netball-tournament-save-date/
END:VEVENT
BEGIN:VEVENT
DTSTART;VALUE=DATE:20190927
DTEND;VALUE=DATE:20190928
DTSTAMP:20260420T160351
CREATED:20190408T222656Z
LAST-MODIFIED:20190408T222656Z
UID:24562-1569542400-1569628799@www.murraysbay.school.nz
SUMMARY:Last Day Term 3
DESCRIPTION:
URL:https://www.murraysbay.school.nz/event/last-day-term-3/
END:VEVENT
BEGIN:VEVENT
DTSTART;TZID=Pacific/Auckland:20190927T093000
DTEND;TZID=Pacific/Auckland:20190927T110000
DTSTAMP:20260420T160351
CREATED:20190212T010629Z
LAST-MODIFIED:20190212T010629Z
UID:24311-1569576600-1569582000@www.murraysbay.school.nz
SUMMARY:Passion Project Sharing Assembly
DESCRIPTION:
URL:https://www.murraysbay.school.nz/event/passion-project-sharing-assembly/
END:VEVENT
BEGIN:VEVENT
DTSTART;VALUE=DATE:20191014
DTEND;VALUE=DATE:20191015
DTSTAMP:20260420T160351
CREATED:20190408T222731Z
LAST-MODIFIED:20190408T222731Z
UID:24564-1571011200-1571097599@www.murraysbay.school.nz
SUMMARY:First Day Term 4
DESCRIPTION:
URL:https://www.murraysbay.school.nz/event/first-day-term-4/
END:VEVENT
BEGIN:VEVENT
DTSTART;VALUE=DATE:20191014
DTEND;VALUE=DATE:20191018
DTSTAMP:20260420T160351
CREATED:20190925T212009Z
LAST-MODIFIED:20190925T212009Z
UID:25170-1571011200-1571356799@www.murraysbay.school.nz
SUMMARY:Y6 - Food for Thought
DESCRIPTION:
URL:https://www.murraysbay.school.nz/event/y6-food-for-thought/
END:VEVENT
BEGIN:VEVENT
DTSTART;TZID=Pacific/Auckland:20191015T190000
DTEND;TZID=Pacific/Auckland:20191015T200000
DTSTAMP:20260420T160351
CREATED:20181213T014448Z
LAST-MODIFIED:20181213T014448Z
UID:24152-1571166000-1571169600@www.murraysbay.school.nz
SUMMARY:PTA Meeting - Staffroom 7:00pm
DESCRIPTION:
URL:https://www.murraysbay.school.nz/event/pta-meeting-staffroom-700pm-5/
END:VEVENT
BEGIN:VEVENT
DTSTART;TZID=Pacific/Auckland:20191017T080000
DTEND;TZID=Pacific/Auckland:20191017T170000
DTSTAMP:20260420T160351
CREATED:20190530T224753Z
LAST-MODIFIED:20190530T224753Z
UID:24767-1571299200-1571331600@www.murraysbay.school.nz
SUMMARY:National 'Shakeout' Drill - time TBC
DESCRIPTION:
URL:https://www.murraysbay.school.nz/event/national-shakeout-drill-time-tbc/
END:VEVENT
BEGIN:VEVENT
DTSTART;TZID=Pacific/Auckland:20191018T091500
DTEND;TZID=Pacific/Auckland:20191018T101500
DTSTAMP:20260420T160351
CREATED:20190926T024056Z
LAST-MODIFIED:20190926T024056Z
UID:25187-1571390100-1571393700@www.murraysbay.school.nz
SUMMARY:Full School Assembly - Waipapa
DESCRIPTION:
URL:https://www.murraysbay.school.nz/event/full-school-assembly-waipapa-2/
END:VEVENT
BEGIN:VEVENT
DTSTART;TZID=Pacific/Auckland:20191018T170000
DTEND;TZID=Pacific/Auckland:20191018T203000
DTSTAMP:20260420T160351
CREATED:20190613T013310Z
LAST-MODIFIED:20190613T013310Z
UID:24822-1571418000-1571430600@www.murraysbay.school.nz
SUMMARY:PTA Disco
DESCRIPTION:Junior Disco – 5pm to 6:30pm\nSenior Disco – 7pm to 8:30pm
URL:https://www.murraysbay.school.nz/event/pta-disco/
END:VEVENT
BEGIN:VEVENT
DTSTART;TZID=Pacific/Auckland:20191022T090000
DTEND;TZID=Pacific/Auckland:20191022T143000
DTSTAMP:20260420T160351
CREATED:20190925T212054Z
LAST-MODIFIED:20190925T212054Z
UID:25172-1571734800-1571754600@www.murraysbay.school.nz
SUMMARY:Year 6 Pak n' Save Visit  Kārearea AF/TC\, Kārearea KH
DESCRIPTION:
URL:https://www.murraysbay.school.nz/event/year-6-pak-n-save-visit-karearea-af-tc-karearea-kh/
END:VEVENT
BEGIN:VEVENT
DTSTART;TZID=Pacific/Auckland:20191023T090000
DTEND;TZID=Pacific/Auckland:20191023T143000
DTSTAMP:20260420T160351
CREATED:20190925T212122Z
LAST-MODIFIED:20190925T212122Z
UID:25174-1571821200-1571841000@www.murraysbay.school.nz
SUMMARY:Year 6 Pak n' Save Visit  Kārearea LJ\, Kārearea ML
DESCRIPTION:
URL:https://www.murraysbay.school.nz/event/year-6-pak-n-save-visit-karearea-lj-karearea-ml/
END:VEVENT
END:VCALENDAR