BEGIN:VCALENDAR
VERSION:2.0
PRODID:-//Murrays Bay Primary School - ECPv6.10.1.1//NONSGML v1.0//EN
CALSCALE:GREGORIAN
METHOD:PUBLISH
X-WR-CALNAME:Murrays Bay Primary School
X-ORIGINAL-URL:https://www.murraysbay.school.nz
X-WR-CALDESC:Events for Murrays Bay Primary School
REFRESH-INTERVAL;VALUE=DURATION:PT1H
X-Robots-Tag:noindex
X-PUBLISHED-TTL:PT1H
BEGIN:VTIMEZONE
TZID:Pacific/Auckland
BEGIN:STANDARD
TZOFFSETFROM:+1300
TZOFFSETTO:+1200
TZNAME:NZST
DTSTART:20180331T140000
END:STANDARD
BEGIN:DAYLIGHT
TZOFFSETFROM:+1200
TZOFFSETTO:+1300
TZNAME:NZDT
DTSTART:20180929T140000
END:DAYLIGHT
BEGIN:STANDARD
TZOFFSETFROM:+1300
TZOFFSETTO:+1200
TZNAME:NZST
DTSTART:20190406T140000
END:STANDARD
BEGIN:DAYLIGHT
TZOFFSETFROM:+1200
TZOFFSETTO:+1300
TZNAME:NZDT
DTSTART:20190928T140000
END:DAYLIGHT
END:VTIMEZONE
BEGIN:VEVENT
DTSTART;TZID=Pacific/Auckland:20190205T190000
DTEND;TZID=Pacific/Auckland:20190205T200000
DTSTAMP:20260420T175622
CREATED:20181213T011138Z
LAST-MODIFIED:20181213T011138Z
UID:24124-1549393200-1549396800@www.murraysbay.school.nz
SUMMARY:PTA Meeting - Staffroom 7:00pm
DESCRIPTION:
URL:https://www.murraysbay.school.nz/event/pta-meeting-staffroom-700pm/
END:VEVENT
BEGIN:VEVENT
DTSTART;TZID=Pacific/Auckland:20190131T100000
DTEND;TZID=Pacific/Auckland:20190131T120000
DTSTAMP:20260420T175622
CREATED:20190128T234836Z
LAST-MODIFIED:20190128T234836Z
UID:24220-1548928800-1548936000@www.murraysbay.school.nz
SUMMARY:PTA Second Hand Uniform Shop open - 10am-12pm
DESCRIPTION:
URL:https://www.murraysbay.school.nz/event/pta-second-hand-uniform-shop-open-10am-12pm/
END:VEVENT
BEGIN:VEVENT
DTSTART;TZID=Pacific/Auckland:20190131T080000
DTEND;TZID=Pacific/Auckland:20190131T170000
DTSTAMP:20260420T175622
CREATED:20181029T215317Z
LAST-MODIFIED:20181029T215317Z
UID:23767-1548921600-1548954000@www.murraysbay.school.nz
SUMMARY:Teacher Only Day
DESCRIPTION:
URL:https://www.murraysbay.school.nz/event/teacher-only-day-2/
END:VEVENT
BEGIN:VEVENT
DTSTART;TZID=Pacific/Auckland:20181214T093000
DTEND;TZID=Pacific/Auckland:20181214T110000
DTSTAMP:20260420T175622
CREATED:20181125T231112Z
LAST-MODIFIED:20181125T231112Z
UID:23931-1544779800-1544785200@www.murraysbay.school.nz
SUMMARY:End of Year Assembly - Waipapa (School Hall)
DESCRIPTION:
URL:https://www.murraysbay.school.nz/event/end-of-year-assembly-waipapa-school-hall/
END:VEVENT
BEGIN:VEVENT
DTSTART;TZID=Pacific/Auckland:20181212T183000
DTEND;TZID=Pacific/Auckland:20181212T183000
DTSTAMP:20260420T175622
CREATED:20180807T204704Z
LAST-MODIFIED:20181018T003030Z
UID:23423-1544639400-1544639400@www.murraysbay.school.nz
SUMMARY:Year 6 - Graduation 6:30pm
DESCRIPTION:Ceremony \nTime: 6:30pm-7:30pm \nVenue: Murrays Bay Intermediate School Hall \n  \nSocial and Disco \nTime: 7:45pm – 9:30pm \nVenue: Waipapa (School Hall)
URL:https://www.murraysbay.school.nz/event/year-6-graduation-630pm/
END:VEVENT
BEGIN:VEVENT
DTSTART;TZID=Pacific/Auckland:20181212T130000
DTEND;TZID=Pacific/Auckland:20181212T133000
DTSTAMP:20260420T175622
CREATED:20181115T002841Z
LAST-MODIFIED:20181115T002841Z
UID:23883-1544619600-1544621400@www.murraysbay.school.nz
SUMMARY:2018 Road Patrol Celebration Lunch
DESCRIPTION:
URL:https://www.murraysbay.school.nz/event/2018-road-patrol-celebration-lunch/
END:VEVENT
BEGIN:VEVENT
DTSTART;TZID=Pacific/Auckland:20181211T190000
DTEND;TZID=Pacific/Auckland:20181211T200000
DTSTAMP:20260420T175622
CREATED:20180130T012957Z
LAST-MODIFIED:20181123T014108Z
UID:22745-1544554800-1544558400@www.murraysbay.school.nz
SUMMARY:BOT Meeting
DESCRIPTION:7 – 8pm \nSchool Boardroom
URL:https://www.murraysbay.school.nz/event/bot-meeting-6/
END:VEVENT
BEGIN:VEVENT
DTSTART;TZID=Pacific/Auckland:20181211T100000
DTEND;TZID=Pacific/Auckland:20181211T140000
DTSTAMP:20260420T175622
CREATED:20181031T205844Z
LAST-MODIFIED:20181031T205844Z
UID:23785-1544522400-1544536800@www.murraysbay.school.nz
SUMMARY:Y5 End of Year Picnic - Rothesay Bay
DESCRIPTION:
URL:https://www.murraysbay.school.nz/event/y5-end-of-year-picnic-rothesay-bay/
END:VEVENT
BEGIN:VEVENT
DTSTART;TZID=Pacific/Auckland:20181211T093000
DTEND;TZID=Pacific/Auckland:20181211T130000
DTSTAMP:20260420T175622
CREATED:20180807T204612Z
LAST-MODIFIED:20181017T034648Z
UID:23421-1544520600-1544533200@www.murraysbay.school.nz
SUMMARY:Year 6 - Wharf Jump
DESCRIPTION:
URL:https://www.murraysbay.school.nz/event/year-6-wharf-jump/
END:VEVENT
BEGIN:VEVENT
DTSTART;TZID=Pacific/Auckland:20181210T190000
DTEND;TZID=Pacific/Auckland:20181210T200000
DTSTAMP:20260420T175622
CREATED:20180910T214134Z
LAST-MODIFIED:20180910T214134Z
UID:23570-1544468400-1544472000@www.murraysbay.school.nz
SUMMARY:PTA Meeting - Boardroom 7pm
DESCRIPTION:
URL:https://www.murraysbay.school.nz/event/pta-meeting-boardroom-7pm-2/
END:VEVENT
BEGIN:VEVENT
DTSTART;TZID=Pacific/Auckland:20181207T173000
DTEND;TZID=Pacific/Auckland:20181207T193000
DTSTAMP:20260420T175622
CREATED:20180927T014100Z
LAST-MODIFIED:20181125T230226Z
UID:23659-1544203800-1544211000@www.murraysbay.school.nz
SUMMARY:Carols on the Court 5:30pm
DESCRIPTION:
URL:https://www.murraysbay.school.nz/event/carols-on-the-court-time-to-be-confirmed/
END:VEVENT
BEGIN:VEVENT
DTSTART;TZID=Pacific/Auckland:20181206T090000
DTEND;TZID=Pacific/Auckland:20181206T150000
DTSTAMP:20260420T175622
CREATED:20181104T225314Z
LAST-MODIFIED:20181104T225314Z
UID:23796-1544086800-1544108400@www.murraysbay.school.nz
SUMMARY:Student Government - Wheels Day
DESCRIPTION:
URL:https://www.murraysbay.school.nz/event/student-government-wheels-day/
END:VEVENT
BEGIN:VEVENT
DTSTART;TZID=Pacific/Auckland:20181206T090000
DTEND;TZID=Pacific/Auckland:20181206T143000
DTSTAMP:20260420T175622
CREATED:20181122T221113Z
LAST-MODIFIED:20181122T221113Z
UID:23911-1544086800-1544106600@www.murraysbay.school.nz
SUMMARY:Y6 Waterwise - Karearea SI
DESCRIPTION:
URL:https://www.murraysbay.school.nz/event/y6-waterwise-karearea-si/
END:VEVENT
BEGIN:VEVENT
DTSTART;TZID=Pacific/Auckland:20181205T090000
DTEND;TZID=Pacific/Auckland:20181205T143000
DTSTAMP:20260420T175622
CREATED:20181122T221033Z
LAST-MODIFIED:20181122T221034Z
UID:23909-1544000400-1544020200@www.murraysbay.school.nz
SUMMARY:Y6 Waterwise - Karearea LJ
DESCRIPTION:
URL:https://www.murraysbay.school.nz/event/y6-waterwise-karearea-lj/
END:VEVENT
BEGIN:VEVENT
DTSTART;TZID=Pacific/Auckland:20181203T090000
DTEND;TZID=Pacific/Auckland:20181203T143000
DTSTAMP:20260420T175622
CREATED:20181122T220955Z
LAST-MODIFIED:20181122T220955Z
UID:23907-1543827600-1543847400@www.murraysbay.school.nz
SUMMARY:Y6 Waterwise - Karearea LR
DESCRIPTION:
URL:https://www.murraysbay.school.nz/event/y6-waterwise-karearea-lr/
END:VEVENT
BEGIN:VEVENT
DTSTART;TZID=Pacific/Auckland:20181130T080000
DTEND;TZID=Pacific/Auckland:20181130T170000
DTSTAMP:20260420T175622
CREATED:20180927T013822Z
LAST-MODIFIED:20180927T013822Z
UID:23657-1543564800-1543597200@www.murraysbay.school.nz
SUMMARY:PTA - Sausage Sizzle
DESCRIPTION:
URL:https://www.murraysbay.school.nz/event/pta-sausage-sizzle-2/
END:VEVENT
BEGIN:VEVENT
DTSTART;VALUE=DATE:20181129
DTEND;VALUE=DATE:20181130
DTSTAMP:20260420T175622
CREATED:20180126T014417Z
LAST-MODIFIED:20180126T014424Z
UID:22466-1543449600-1543535999@www.murraysbay.school.nz
SUMMARY:Mid Bays Athletics
DESCRIPTION:
URL:https://www.murraysbay.school.nz/event/mid-bays-athletics-2/
END:VEVENT
BEGIN:VEVENT
DTSTART;TZID=Pacific/Auckland:20181128T190000
DTEND;TZID=Pacific/Auckland:20181128T200000
DTSTAMP:20260420T175622
CREATED:20181031T205743Z
LAST-MODIFIED:20181031T205743Z
UID:23783-1543431600-1543435200@www.murraysbay.school.nz
SUMMARY:Y4 Parent Evening - Introduction to Y5 ILE 2019
DESCRIPTION:
URL:https://www.murraysbay.school.nz/event/y4-parent-evening-introduction-to-y5-ile-2019/
END:VEVENT
BEGIN:VEVENT
DTSTART;VALUE=DATE:20181126
DTEND;VALUE=DATE:20181201
DTSTAMP:20260420T175622
CREATED:20180725T230243Z
LAST-MODIFIED:20180725T230243Z
UID:23388-1543190400-1543622399@www.murraysbay.school.nz
SUMMARY:Year 5 Waterwise
DESCRIPTION:Individual Classroom Dates TBC
URL:https://www.murraysbay.school.nz/event/year-5-waterwise/
END:VEVENT
BEGIN:VEVENT
DTSTART;TZID=Pacific/Auckland:20181123T090000
DTEND;TZID=Pacific/Auckland:20181123T143000
DTSTAMP:20260420T175622
CREATED:20181017T040841Z
LAST-MODIFIED:20181017T040841Z
UID:23713-1542963600-1542983400@www.murraysbay.school.nz
SUMMARY:Onepoto Kapa Haka Festival 2018
DESCRIPTION:
URL:https://www.murraysbay.school.nz/event/onepoto-kapa-haka-festival-2018/
END:VEVENT
BEGIN:VEVENT
DTSTART;TZID=Pacific/Auckland:20181121T140000
DTEND;TZID=Pacific/Auckland:20181121T150000
DTSTAMP:20260420T175622
CREATED:20180910T214052Z
LAST-MODIFIED:20180910T214052Z
UID:23568-1542808800-1542812400@www.murraysbay.school.nz
SUMMARY:PTA Meeting - Staffroom 2pm
DESCRIPTION:
URL:https://www.murraysbay.school.nz/event/pta-meeting-staffroom-2pm-2/
END:VEVENT
BEGIN:VEVENT
DTSTART;VALUE=DATE:20181119
DTEND;VALUE=DATE:20181124
DTSTAMP:20260420T175622
CREATED:20180725T230156Z
LAST-MODIFIED:20180725T230156Z
UID:23386-1542585600-1543017599@www.murraysbay.school.nz
SUMMARY:Year 6 Waterwise
DESCRIPTION:Individual Classroom Dates TBC
URL:https://www.murraysbay.school.nz/event/year-6-waterwise/
END:VEVENT
BEGIN:VEVENT
DTSTART;TZID=Pacific/Auckland:20181116T090000
DTEND;TZID=Pacific/Auckland:20181116T150000
DTSTAMP:20260420T175622
CREATED:20181104T225238Z
LAST-MODIFIED:20181104T225238Z
UID:23794-1542358800-1542380400@www.murraysbay.school.nz
SUMMARY:Student Government - Westpac Chopper Appeal (Mufti Day)
DESCRIPTION:
URL:https://www.murraysbay.school.nz/event/student-government-westpac-chopper-appeal-mufti-day/
END:VEVENT
BEGIN:VEVENT
DTSTART;TZID=Pacific/Auckland:20181116T090000
DTEND;TZID=Pacific/Auckland:20181116T143000
DTSTAMP:20260420T175622
CREATED:20181111T203412Z
LAST-MODIFIED:20181111T203412Z
UID:23848-1542358800-1542378600@www.murraysbay.school.nz
SUMMARY:Y6 ETOC - Lake Pupuke
DESCRIPTION:
URL:https://www.murraysbay.school.nz/event/y6-etoc-lake-pupuke/
END:VEVENT
BEGIN:VEVENT
DTSTART;TZID=Pacific/Auckland:20181115T090000
DTEND;TZID=Pacific/Auckland:20181115T143000
DTSTAMP:20260420T175622
CREATED:20181111T203327Z
LAST-MODIFIED:20181111T203327Z
UID:23846-1542272400-1542292200@www.murraysbay.school.nz
SUMMARY:Y6 ETOC - Birkenhead Leisure Centre
DESCRIPTION:
URL:https://www.murraysbay.school.nz/event/y6-etoc-birkenhead-leisure-centre/
END:VEVENT
BEGIN:VEVENT
DTSTART;TZID=Pacific/Auckland:20181115T090000
DTEND;TZID=Pacific/Auckland:20181115T130000
DTSTAMP:20260420T175622
CREATED:20181111T202217Z
LAST-MODIFIED:20181111T202217Z
UID:23844-1542272400-1542286800@www.murraysbay.school.nz
SUMMARY:Junior Athletics Day
DESCRIPTION:9:15am – 11am\nYear 1 – 3\nBottom Field \n11:30am – 1pm\nY1\, Bottom Field\nY2-3\, MBIS Field
URL:https://www.murraysbay.school.nz/event/junior-athletics-day-2/
END:VEVENT
BEGIN:VEVENT
DTSTART;TZID=Pacific/Auckland:20181114T090000
DTEND;TZID=Pacific/Auckland:20181114T120000
DTSTAMP:20260420T175622
CREATED:20181111T224855Z
LAST-MODIFIED:20181111T224855Z
UID:23852-1542186000-1542196800@www.murraysbay.school.nz
SUMMARY:Dance Extension Performace
DESCRIPTION:Performance at Murrays Bay Intermediate School
URL:https://www.murraysbay.school.nz/event/dance-extension-performace/
END:VEVENT
BEGIN:VEVENT
DTSTART;TZID=Pacific/Auckland:20181113T190000
DTEND;TZID=Pacific/Auckland:20181113T200000
DTSTAMP:20260420T175622
CREATED:20180130T012855Z
LAST-MODIFIED:20180130T012855Z
UID:22743-1542135600-1542139200@www.murraysbay.school.nz
SUMMARY:BOT Meeting
DESCRIPTION:7 – 8pm \nSchool Boardroom
URL:https://www.murraysbay.school.nz/event/bot-meeting-5/
END:VEVENT
BEGIN:VEVENT
DTSTART;TZID=Pacific/Auckland:20181112T110000
DTEND;TZID=Pacific/Auckland:20181112T120000
DTSTAMP:20260420T175622
CREATED:20181111T214150Z
LAST-MODIFIED:20181111T214150Z
UID:23850-1542020400-1542024000@www.murraysbay.school.nz
SUMMARY:Thank You Morning Tea
DESCRIPTION:
URL:https://www.murraysbay.school.nz/event/thank-you-morning-tea/
END:VEVENT
BEGIN:VEVENT
DTSTART;TZID=Pacific/Auckland:20181112T080000
DTEND;TZID=Pacific/Auckland:20181112T170000
DTSTAMP:20260420T175622
CREATED:20181105T222806Z
LAST-MODIFIED:20181105T222806Z
UID:23812-1542009600-1542042000@www.murraysbay.school.nz
SUMMARY:School Closed for Instruction - Strike Action
DESCRIPTION:
URL:https://www.murraysbay.school.nz/event/school-closed-for-instruction-strike-action/
END:VEVENT
END:VCALENDAR