BEGIN:VCALENDAR
VERSION:2.0
PRODID:-//Murrays Bay Primary School - ECPv6.10.1.1//NONSGML v1.0//EN
CALSCALE:GREGORIAN
METHOD:PUBLISH
X-WR-CALNAME:Murrays Bay Primary School
X-ORIGINAL-URL:https://www.murraysbay.school.nz
X-WR-CALDESC:Events for Murrays Bay Primary School
REFRESH-INTERVAL;VALUE=DURATION:PT1H
X-Robots-Tag:noindex
X-PUBLISHED-TTL:PT1H
BEGIN:VTIMEZONE
TZID:Pacific/Auckland
BEGIN:STANDARD
TZOFFSETFROM:+1300
TZOFFSETTO:+1200
TZNAME:NZST
DTSTART:20200404T140000
END:STANDARD
BEGIN:DAYLIGHT
TZOFFSETFROM:+1200
TZOFFSETTO:+1300
TZNAME:NZDT
DTSTART:20200926T140000
END:DAYLIGHT
END:VTIMEZONE
BEGIN:VEVENT
DTSTART;TZID=Pacific/Auckland:20201016T090000
DTEND;TZID=Pacific/Auckland:20201016T100000
DTSTAMP:20260426T023703
CREATED:20201013T022900Z
LAST-MODIFIED:20201013T022952Z
UID:26380-1602838800-1602842400@www.murraysbay.school.nz
SUMMARY:Senior Assembly - Waipapa\, 9:15am
DESCRIPTION:
URL:https://www.murraysbay.school.nz/event/junior-assembly-waipapa-915am-5/
END:VEVENT
BEGIN:VEVENT
DTSTART;TZID=Pacific/Auckland:20201016T090000
DTEND;TZID=Pacific/Auckland:20201016T110000
DTSTAMP:20260426T023703
CREATED:20200909T014145Z
LAST-MODIFIED:20201013T000832Z
UID:26287-1602838800-1602846000@www.murraysbay.school.nz
SUMMARY:Junior Cross Country
DESCRIPTION:Start times \n9.15 – Year 0&1 \n11:40 – Year 2 \n2:10- Year 3
URL:https://www.murraysbay.school.nz/event/junior-cross-country-save-date/
END:VEVENT
BEGIN:VEVENT
DTSTART;VALUE=DATE:20201019
DTEND;VALUE=DATE:20201020
DTSTAMP:20260426T023703
CREATED:20201018T211227Z
LAST-MODIFIED:20201018T211227Z
UID:26415-1603065600-1603151999@www.murraysbay.school.nz
SUMMARY:Year 5 EoY Beach Day Celebration - Rothesay Bay
DESCRIPTION:
URL:https://www.murraysbay.school.nz/event/year-5-eoy-beach-day-celebration-rothesay-bay/
END:VEVENT
BEGIN:VEVENT
DTSTART;TZID=Pacific/Auckland:20201020T190000
DTEND;TZID=Pacific/Auckland:20201020T200000
DTSTAMP:20260426T023703
CREATED:20200618T224309Z
LAST-MODIFIED:20200618T224309Z
UID:26071-1603220400-1603224000@www.murraysbay.school.nz
SUMMARY:PTA Meeting - Staffroom\, 7:00pm
DESCRIPTION:
URL:https://www.murraysbay.school.nz/event/pta-meeting-staffroom-700pm-13/
END:VEVENT
BEGIN:VEVENT
DTSTART;TZID=Pacific/Auckland:20201022T080000
DTEND;TZID=Pacific/Auckland:20201022T150000
DTSTAMP:20260426T023703
CREATED:20201008T024412Z
LAST-MODIFIED:20201008T024412Z
UID:26337-1603353600-1603378800@www.murraysbay.school.nz
SUMMARY:Calendar Art Ordering Closes
DESCRIPTION:https://www.kidsartworks.com/Shop/KZ \nEach child has a unique code – for any misplaced codes please request this from the school office
URL:https://www.murraysbay.school.nz/event/calendar-art-ordering-closes/
END:VEVENT
BEGIN:VEVENT
DTSTART;TZID=Pacific/Auckland:20201022T130000
DTEND;TZID=Pacific/Auckland:20201022T133000
DTSTAMP:20260426T023703
CREATED:20201015T005921Z
LAST-MODIFIED:20201015T005921Z
UID:26393-1603371600-1603373400@www.murraysbay.school.nz
SUMMARY:PTA Sausage Sizzle Lunch
DESCRIPTION:
URL:https://www.murraysbay.school.nz/event/pta-sausage-sizzle-lunch/
END:VEVENT
BEGIN:VEVENT
DTSTART;TZID=Pacific/Auckland:20201023T080000
DTEND;TZID=Pacific/Auckland:20201023T170000
DTSTAMP:20260426T023703
CREATED:20200617T215124Z
LAST-MODIFIED:20200617T215124Z
UID:26052-1603440000-1603472400@www.murraysbay.school.nz
SUMMARY:Teacher Only Day - School Closed
DESCRIPTION:
URL:https://www.murraysbay.school.nz/event/teacher-only-day-school-closed-3/
END:VEVENT
BEGIN:VEVENT
DTSTART;VALUE=DATE:20201026
DTEND;VALUE=DATE:20201027
DTSTAMP:20260426T023703
CREATED:20201013T001611Z
LAST-MODIFIED:20201013T001611Z
UID:26377-1603670400-1603756799@www.murraysbay.school.nz
SUMMARY:Queen's Birthday - School Closed
DESCRIPTION:
URL:https://www.murraysbay.school.nz/event/queens-birthday-school-closed-2/
END:VEVENT
BEGIN:VEVENT
DTSTART;TZID=Pacific/Auckland:20201028T190000
DTEND;TZID=Pacific/Auckland:20201028T203000
DTSTAMP:20260426T023703
CREATED:20201008T030824Z
LAST-MODIFIED:20201008T030824Z
UID:26342-1603911600-1603917000@www.murraysbay.school.nz
SUMMARY:Shrek Jnr the Musical - Waipapa\, 7pm
DESCRIPTION:
URL:https://www.murraysbay.school.nz/event/shrek-jnr-the-musical-waipapa-7pm/
END:VEVENT
BEGIN:VEVENT
DTSTART;TZID=Pacific/Auckland:20201029T120000
DTEND;TZID=Pacific/Auckland:20201029T133000
DTSTAMP:20260426T023703
CREATED:20201008T030901Z
LAST-MODIFIED:20201008T030901Z
UID:26344-1603972800-1603978200@www.murraysbay.school.nz
SUMMARY:Shrek Jnr the Musical - Waipapa\, 12pm
DESCRIPTION:
URL:https://www.murraysbay.school.nz/event/shrek-jnr-the-musical-waipapa-12pm/
END:VEVENT
BEGIN:VEVENT
DTSTART;TZID=Pacific/Auckland:20201029T190000
DTEND;TZID=Pacific/Auckland:20201029T203000
DTSTAMP:20260426T023703
CREATED:20201008T030937Z
LAST-MODIFIED:20201008T030937Z
UID:26346-1603998000-1604003400@www.murraysbay.school.nz
SUMMARY:Shrek Jnr the Musical - Waipapa\, 7pm
DESCRIPTION:
URL:https://www.murraysbay.school.nz/event/shrek-jnr-the-musical-waipapa-7pm-2/
END:VEVENT
BEGIN:VEVENT
DTSTART;VALUE=DATE:20201030
DTEND;VALUE=DATE:20201031
DTSTAMP:20260426T023703
CREATED:20201021T002011Z
LAST-MODIFIED:20201021T002011Z
UID:26451-1604016000-1604102399@www.murraysbay.school.nz
SUMMARY:BoT Nominations Close at 12noon
DESCRIPTION:
URL:https://www.murraysbay.school.nz/event/bot-nominations-close-at-12noon/
END:VEVENT
BEGIN:VEVENT
DTSTART;TZID=Pacific/Auckland:20201030T090000
DTEND;TZID=Pacific/Auckland:20201030T100000
DTSTAMP:20260426T023703
CREATED:20201013T023111Z
LAST-MODIFIED:20201013T023111Z
UID:26384-1604048400-1604052000@www.murraysbay.school.nz
SUMMARY:Junior Assembly - Waipapa\, 9:15am
DESCRIPTION:
URL:https://www.murraysbay.school.nz/event/junior-assembly-waipapa-915am-6/
END:VEVENT
BEGIN:VEVENT
DTSTART;TZID=Pacific/Auckland:20201102T090000
DTEND;TZID=Pacific/Auckland:20201102T120000
DTSTAMP:20260426T023703
CREATED:20201012T201626Z
LAST-MODIFIED:20201012T201626Z
UID:26366-1604307600-1604318400@www.murraysbay.school.nz
SUMMARY:ICAS Science
DESCRIPTION:Year 5      9:00am  \nYear 4      10:00am      \nYear 6      11:45am
URL:https://www.murraysbay.school.nz/event/icas-science-3/
END:VEVENT
BEGIN:VEVENT
DTSTART;VALUE=DATE:20201103
DTEND;VALUE=DATE:20201104
DTSTAMP:20260426T023703
CREATED:20200129T020459Z
LAST-MODIFIED:20200129T020459Z
UID:25630-1604361600-1604447999@www.murraysbay.school.nz
SUMMARY:Super Cluster Touch Rugby
DESCRIPTION:venue TBC
URL:https://www.murraysbay.school.nz/event/super-cluster-touch-rugby/
END:VEVENT
BEGIN:VEVENT
DTSTART;VALUE=DATE:20201103
DTEND;VALUE=DATE:20201104
DTSTAMP:20260426T023703
CREATED:20201011T213708Z
LAST-MODIFIED:20201011T213708Z
UID:26354-1604361600-1604447999@www.murraysbay.school.nz
SUMMARY:Super Cluster Touch Y5-6
DESCRIPTION:Selected students only \nLocation TBC
URL:https://www.murraysbay.school.nz/event/super-cluster-touch-y5-6/
END:VEVENT
BEGIN:VEVENT
DTSTART;TZID=Pacific/Auckland:20201104T090000
DTEND;TZID=Pacific/Auckland:20201104T120000
DTSTAMP:20260426T023703
CREATED:20201012T201707Z
LAST-MODIFIED:20201012T201707Z
UID:26368-1604480400-1604491200@www.murraysbay.school.nz
SUMMARY:ICAS English
DESCRIPTION:Year 5      9:00am  \nYear 4      10:00am      \nYear 6      11:45am
URL:https://www.murraysbay.school.nz/event/icas-english-3/
END:VEVENT
BEGIN:VEVENT
DTSTART;TZID=Pacific/Auckland:20201105T193000
DTEND;TZID=Pacific/Auckland:20201105T203000
DTSTAMP:20260426T023703
CREATED:20201021T195513Z
LAST-MODIFIED:20201021T195513Z
UID:26459-1604604600-1604608200@www.murraysbay.school.nz
SUMMARY:Kids For Kids - Bruce Mason Centre\, Takapuna
DESCRIPTION:Tickets available via Ticketmaster\nticketmaster.co.nz\nwww.kidsforkids.org.nz
URL:https://www.murraysbay.school.nz/event/kids-for-kids-bruce-mason-centre-takapuna/
END:VEVENT
BEGIN:VEVENT
DTSTART;TZID=Pacific/Auckland:20201106T090000
DTEND;TZID=Pacific/Auckland:20201106T100000
DTSTAMP:20260426T023703
CREATED:20201013T023325Z
LAST-MODIFIED:20201013T023325Z
UID:26386-1604653200-1604656800@www.murraysbay.school.nz
SUMMARY:Senior Assembly - Waipapa\, 9:15am
DESCRIPTION:
URL:https://www.murraysbay.school.nz/event/senior-assembly-waipapa-915am-5/
END:VEVENT
BEGIN:VEVENT
DTSTART;TZID=Pacific/Auckland:20201106T090000
DTEND;TZID=Pacific/Auckland:20201106T120000
DTSTAMP:20260426T023703
CREATED:20201012T201732Z
LAST-MODIFIED:20201012T201732Z
UID:26370-1604653200-1604664000@www.murraysbay.school.nz
SUMMARY:ICAS Maths
DESCRIPTION:Year 5      9:00am  \nYear 4      10:00am      \nYear 6      11:45am
URL:https://www.murraysbay.school.nz/event/icas-maths-2/
END:VEVENT
BEGIN:VEVENT
DTSTART;VALUE=DATE:20201109
DTEND;VALUE=DATE:20201116
DTSTAMP:20260426T023703
CREATED:20200901T005113Z
LAST-MODIFIED:20200901T005113Z
UID:26267-1604880000-1605484799@www.murraysbay.school.nz
SUMMARY:Road Safety Week
DESCRIPTION:
URL:https://www.murraysbay.school.nz/event/road-safety-week-2/
END:VEVENT
BEGIN:VEVENT
DTSTART;TZID=Pacific/Auckland:20201111T190000
DTEND;TZID=Pacific/Auckland:20201111T200000
DTSTAMP:20260426T023703
CREATED:20200303T225736Z
LAST-MODIFIED:20201012T211139Z
UID:25808-1605121200-1605124800@www.murraysbay.school.nz
SUMMARY:BoT Meeting - 7:00pm\, Boardroom
DESCRIPTION:
URL:https://www.murraysbay.school.nz/event/bot-meeting-700pm-boardroom-6/
END:VEVENT
BEGIN:VEVENT
DTSTART;VALUE=DATE:20201112
DTEND;VALUE=DATE:20201113
DTSTAMP:20260426T023703
CREATED:20200212T211738Z
LAST-MODIFIED:20201012T005146Z
UID:25716-1605139200-1605225599@www.murraysbay.school.nz
SUMMARY:MBPS Senior Athletics - AUT Millennium
DESCRIPTION:No Save Date available
URL:https://www.murraysbay.school.nz/event/mbps-senior-athletics-aut-millennium/
END:VEVENT
BEGIN:VEVENT
DTSTART;VALUE=DATE:20201112
DTEND;VALUE=DATE:20201113
DTSTAMP:20260426T023703
CREATED:20201108T213014Z
LAST-MODIFIED:20201108T213014Z
UID:26500-1605139200-1605225599@www.murraysbay.school.nz
SUMMARY:World Kindness Day
DESCRIPTION:
URL:https://www.murraysbay.school.nz/event/world-kindness-day/
END:VEVENT
BEGIN:VEVENT
DTSTART;TZID=Pacific/Auckland:20201112T093000
DTEND;TZID=Pacific/Auckland:20201112T143000
DTSTAMP:20260426T023703
CREATED:20201015T223335Z
LAST-MODIFIED:20201015T223335Z
UID:26409-1605173400-1605191400@www.murraysbay.school.nz
SUMMARY:National Young Leaders Day 2020
DESCRIPTION:Executive Student Government to attend
URL:https://www.murraysbay.school.nz/event/national-young-leaders-day-2020/
END:VEVENT
BEGIN:VEVENT
DTSTART;TZID=Pacific/Auckland:20201113T090000
DTEND;TZID=Pacific/Auckland:20201113T100000
DTSTAMP:20260426T023703
CREATED:20201013T023417Z
LAST-MODIFIED:20201013T023417Z
UID:26388-1605258000-1605261600@www.murraysbay.school.nz
SUMMARY:Junior Assembly - Waipapa\, 9:15am
DESCRIPTION:
URL:https://www.murraysbay.school.nz/event/junior-assembly-waipapa-915am-7/
END:VEVENT
BEGIN:VEVENT
DTSTART;TZID=Pacific/Auckland:20201113T170000
DTEND;TZID=Pacific/Auckland:20201113T203000
DTSTAMP:20260426T023703
CREATED:20201021T013756Z
LAST-MODIFIED:20201021T013756Z
UID:26453-1605286800-1605299400@www.murraysbay.school.nz
SUMMARY:PTA Sports Superstars Disco - Waipapa
DESCRIPTION:Junior Disco – 5:00pm-6:30pm \nSenior Disco – 7:00pm-8:30pm \nRefreshments available to purchase on the night
URL:https://www.murraysbay.school.nz/event/pta-sports-superstars-disco-waipapa/
END:VEVENT
BEGIN:VEVENT
DTSTART;VALUE=DATE:20201117
DTEND;VALUE=DATE:20201118
DTSTAMP:20260426T023703
CREATED:20201019T223940Z
LAST-MODIFIED:20201019T223940Z
UID:26429-1605571200-1605657599@www.murraysbay.school.nz
SUMMARY:Waterwise - Kererū MB
DESCRIPTION:
URL:https://www.murraysbay.school.nz/event/waterwise-kereru-mb/
END:VEVENT
BEGIN:VEVENT
DTSTART;VALUE=DATE:20201118
DTEND;VALUE=DATE:20201119
DTSTAMP:20260426T023703
CREATED:20201019T224016Z
LAST-MODIFIED:20201019T224016Z
UID:26431-1605657600-1605743999@www.murraysbay.school.nz
SUMMARY:Waterwise - Kererū KR
DESCRIPTION:
URL:https://www.murraysbay.school.nz/event/waterwise-kereru-kr/
END:VEVENT
BEGIN:VEVENT
DTSTART;VALUE=DATE:20201119
DTEND;VALUE=DATE:20201120
DTSTAMP:20260426T023703
CREATED:20201019T224058Z
LAST-MODIFIED:20201019T224058Z
UID:26433-1605744000-1605830399@www.murraysbay.school.nz
SUMMARY:Waterwise - Pīwakawaka MW
DESCRIPTION:
URL:https://www.murraysbay.school.nz/event/waterwise-piwakawaka-mw/
END:VEVENT
END:VCALENDAR