BEGIN:VCALENDAR
VERSION:2.0
PRODID:-//Murrays Bay Primary School - ECPv6.10.1.1//NONSGML v1.0//EN
CALSCALE:GREGORIAN
METHOD:PUBLISH
X-WR-CALNAME:Murrays Bay Primary School
X-ORIGINAL-URL:https://www.murraysbay.school.nz
X-WR-CALDESC:Events for Murrays Bay Primary School
REFRESH-INTERVAL;VALUE=DURATION:PT1H
X-Robots-Tag:noindex
X-PUBLISHED-TTL:PT1H
BEGIN:VTIMEZONE
TZID:Pacific/Auckland
BEGIN:STANDARD
TZOFFSETFROM:+1300
TZOFFSETTO:+1200
TZNAME:NZST
DTSTART:20180331T140000
END:STANDARD
BEGIN:DAYLIGHT
TZOFFSETFROM:+1200
TZOFFSETTO:+1300
TZNAME:NZDT
DTSTART:20180929T140000
END:DAYLIGHT
END:VTIMEZONE
BEGIN:VEVENT
DTSTART;TZID=Pacific/Auckland:20180122T080000
DTEND;TZID=Pacific/Auckland:20180122T170000
DTSTAMP:20260423T123445
CREATED:20171218T011508Z
LAST-MODIFIED:20171218T011508Z
UID:22329-1516608000-1516640400@www.murraysbay.school.nz
SUMMARY:School Office Open for 2018 9am - 3pm
DESCRIPTION:
URL:https://www.murraysbay.school.nz/event/school-office-open-for-2018-9am-3pm/
END:VEVENT
END:VCALENDAR