BEGIN:VCALENDAR
VERSION:2.0
PRODID:-//Murrays Bay Primary School - ECPv6.10.1.1//NONSGML v1.0//EN
CALSCALE:GREGORIAN
METHOD:PUBLISH
X-WR-CALNAME:Murrays Bay Primary School
X-ORIGINAL-URL:https://www.murraysbay.school.nz
X-WR-CALDESC:Events for Murrays Bay Primary School
REFRESH-INTERVAL;VALUE=DURATION:PT1H
X-Robots-Tag:noindex
X-PUBLISHED-TTL:PT1H
BEGIN:VTIMEZONE
TZID:Pacific/Auckland
BEGIN:STANDARD
TZOFFSETFROM:+1300
TZOFFSETTO:+1200
TZNAME:NZST
DTSTART:20180331T140000
END:STANDARD
BEGIN:DAYLIGHT
TZOFFSETFROM:+1200
TZOFFSETTO:+1300
TZNAME:NZDT
DTSTART:20180929T140000
END:DAYLIGHT
END:VTIMEZONE
BEGIN:VEVENT
DTSTART;TZID=Pacific/Auckland:20180220T140000
DTEND;TZID=Pacific/Auckland:20180220T180000
DTSTAMP:20260423T111350
CREATED:20171218T021636Z
LAST-MODIFIED:20171218T021636Z
UID:22359-1519135200-1519149600@www.murraysbay.school.nz
SUMMARY:Student - Parent - Teacher Meetings
DESCRIPTION:
URL:https://www.murraysbay.school.nz/event/student-parent-teacher-meetings/
END:VEVENT
BEGIN:VEVENT
DTSTART;TZID=Pacific/Auckland:20180215T190000
DTEND;TZID=Pacific/Auckland:20180215T200000
DTSTAMP:20260423T111350
CREATED:20180212T214608Z
LAST-MODIFIED:20180212T214608Z
UID:22797-1518721200-1518724800@www.murraysbay.school.nz
SUMMARY:PTA Meeting - 7pm - Staffroom
DESCRIPTION:
URL:https://www.murraysbay.school.nz/event/pta-meeting-7pm-staffroom/
END:VEVENT
BEGIN:VEVENT
DTSTART;VALUE=DATE:20180214
DTEND;VALUE=DATE:20180217
DTSTAMP:20260423T111350
CREATED:20171218T015520Z
LAST-MODIFIED:20171218T015604Z
UID:22357-1518566400-1518825599@www.murraysbay.school.nz
SUMMARY:Year 5 Camp
DESCRIPTION:
URL:https://www.murraysbay.school.nz/event/year-5-camp/
END:VEVENT
BEGIN:VEVENT
DTSTART;TZID=Pacific/Auckland:20180212T141500
DTEND;TZID=Pacific/Auckland:20180212T150000
DTSTAMP:20260423T111350
CREATED:20171218T014909Z
LAST-MODIFIED:20171218T014909Z
UID:22355-1518444900-1518447600@www.murraysbay.school.nz
SUMMARY:New Student Parent Orientation Meeting
DESCRIPTION:
URL:https://www.murraysbay.school.nz/event/new-student-parent-orientation-meeting/
END:VEVENT
BEGIN:VEVENT
DTSTART;TZID=Pacific/Auckland:20180209T091500
DTEND;TZID=Pacific/Auckland:20180209T101500
DTSTAMP:20260423T111350
CREATED:20171218T014805Z
LAST-MODIFIED:20171218T014805Z
UID:22353-1518167700-1518171300@www.murraysbay.school.nz
SUMMARY:Full School Assembly 9.15am - 10.15am
DESCRIPTION:
URL:https://www.murraysbay.school.nz/event/full-school-assembly-9-15am-10-15am/
END:VEVENT
BEGIN:VEVENT
DTSTART;VALUE=DATE:20180206
DTEND;VALUE=DATE:20180207
DTSTAMP:20260423T111350
CREATED:20171218T014548Z
LAST-MODIFIED:20171218T014719Z
UID:22351-1517875200-1517961599@www.murraysbay.school.nz
SUMMARY:Waitangi Day
DESCRIPTION:
URL:https://www.murraysbay.school.nz/event/waitangi-day-2/
END:VEVENT
BEGIN:VEVENT
DTSTART;TZID=Pacific/Auckland:20180201T103000
DTEND;TZID=Pacific/Auckland:20180201T113000
DTSTAMP:20260423T111350
CREATED:20171218T014025Z
LAST-MODIFIED:20171218T014025Z
UID:22347-1517481000-1517484600@www.murraysbay.school.nz
SUMMARY:Powhiri 10.30am
DESCRIPTION:Held in Waipapa\, this powhiri is to welcome all new and returning students to school
URL:https://www.murraysbay.school.nz/event/powhiri-10-30am/
END:VEVENT
BEGIN:VEVENT
DTSTART;TZID=Pacific/Auckland:20180201T085500
DTEND;TZID=Pacific/Auckland:20180201T150000
DTSTAMP:20260423T111350
CREATED:20171218T013526Z
LAST-MODIFIED:20171218T013721Z
UID:22345-1517475300-1517497200@www.murraysbay.school.nz
SUMMARY:2018\, Term 1 Starts today
DESCRIPTION:
URL:https://www.murraysbay.school.nz/event/2018-term-1-starts-today/
END:VEVENT
BEGIN:VEVENT
DTSTART;TZID=Pacific/Auckland:20180131T090000
DTEND;TZID=Pacific/Auckland:20180131T130000
DTSTAMP:20260423T111350
CREATED:20171218T013332Z
LAST-MODIFIED:20171218T013347Z
UID:22343-1517389200-1517403600@www.murraysbay.school.nz
SUMMARY:School office open 9am  - 1pm
DESCRIPTION:
URL:https://www.murraysbay.school.nz/event/school-office-open-9am-1pm/
END:VEVENT
BEGIN:VEVENT
DTSTART;TZID=Pacific/Auckland:20180130T090000
DTEND;TZID=Pacific/Auckland:20180130T150000
DTSTAMP:20260423T111350
CREATED:20171218T013146Z
LAST-MODIFIED:20171218T013146Z
UID:22341-1517302800-1517324400@www.murraysbay.school.nz
SUMMARY:School office open 9am - 3pm
DESCRIPTION:
URL:https://www.murraysbay.school.nz/event/school-office-open-9am-3pm-3/
END:VEVENT
BEGIN:VEVENT
DTSTART;TZID=Pacific/Auckland:20180130T080000
DTEND;TZID=Pacific/Auckland:20180130T170000
DTSTAMP:20260423T111350
CREATED:20180130T013310Z
LAST-MODIFIED:20180130T013316Z
UID:22747-1517299200-1517331600@www.murraysbay.school.nz
SUMMARY:Y3 Sleepover
DESCRIPTION:Information will be sent home via the classroom teacher.
URL:https://www.murraysbay.school.nz/event/y3-sleepover/
END:VEVENT
BEGIN:VEVENT
DTSTART;VALUE=DATE:20180129
DTEND;VALUE=DATE:20180130
DTSTAMP:20260423T111350
CREATED:20171218T014322Z
LAST-MODIFIED:20171218T014519Z
UID:22349-1517184000-1517270399@www.murraysbay.school.nz
SUMMARY:Auckland Anniversary Day
DESCRIPTION:
URL:https://www.murraysbay.school.nz/event/auckland-anniversary-day-2/
END:VEVENT
BEGIN:VEVENT
DTSTART;TZID=Pacific/Auckland:20180126T090000
DTEND;TZID=Pacific/Auckland:20180126T150000
DTSTAMP:20260423T111350
CREATED:20171218T012930Z
LAST-MODIFIED:20171218T012930Z
UID:22339-1516957200-1516978800@www.murraysbay.school.nz
SUMMARY:School office open 9am - 3pm
DESCRIPTION:
URL:https://www.murraysbay.school.nz/event/school-office-open-9am-3pm-2/
END:VEVENT
BEGIN:VEVENT
DTSTART;TZID=Pacific/Auckland:20180125T103000
DTEND;TZID=Pacific/Auckland:20180125T123000
DTSTAMP:20260423T111350
CREATED:20171218T233105Z
LAST-MODIFIED:20171218T233144Z
UID:22412-1516876200-1516883400@www.murraysbay.school.nz
SUMMARY:2nd Chance Uniform Shop Open 10.30am - 12pm
DESCRIPTION:
URL:https://www.murraysbay.school.nz/event/2nd-chance-uniform-shop-open-10-30am-12pm/
END:VEVENT
BEGIN:VEVENT
DTSTART;TZID=Pacific/Auckland:20180125T090000
DTEND;TZID=Pacific/Auckland:20180125T150000
DTSTAMP:20260423T111350
CREATED:20171218T012614Z
LAST-MODIFIED:20171218T012614Z
UID:22337-1516870800-1516892400@www.murraysbay.school.nz
SUMMARY:School Office Open 9am - 3pm
DESCRIPTION:
URL:https://www.murraysbay.school.nz/event/school-office-open-9am-3pm/
END:VEVENT
BEGIN:VEVENT
DTSTART;TZID=Pacific/Auckland:20180124T090000
DTEND;TZID=Pacific/Auckland:20180124T150000
DTSTAMP:20260423T111350
CREATED:20171218T012051Z
LAST-MODIFIED:20171218T012510Z
UID:22333-1516784400-1516806000@www.murraysbay.school.nz
SUMMARY:School office open 9am - 3pm
DESCRIPTION:
URL:https://www.murraysbay.school.nz/event/school-office-open-9-3pm-2/
END:VEVENT
BEGIN:VEVENT
DTSTART;TZID=Pacific/Auckland:20180123T090000
DTEND;TZID=Pacific/Auckland:20180123T150000
DTSTAMP:20260423T111350
CREATED:20171218T012009Z
LAST-MODIFIED:20171218T012015Z
UID:22331-1516698000-1516719600@www.murraysbay.school.nz
SUMMARY:School office open 9 - 3pm
DESCRIPTION:
URL:https://www.murraysbay.school.nz/event/school-office-open-9-3pm/
END:VEVENT
BEGIN:VEVENT
DTSTART;TZID=Pacific/Auckland:20180122T080000
DTEND;TZID=Pacific/Auckland:20180122T170000
DTSTAMP:20260423T111350
CREATED:20171218T011508Z
LAST-MODIFIED:20171218T011508Z
UID:22329-1516608000-1516640400@www.murraysbay.school.nz
SUMMARY:School Office Open for 2018 9am - 3pm
DESCRIPTION:
URL:https://www.murraysbay.school.nz/event/school-office-open-for-2018-9am-3pm/
END:VEVENT
END:VCALENDAR