BEGIN:VCALENDAR
VERSION:2.0
PRODID:-//Murrays Bay Primary School - ECPv6.10.1.1//NONSGML v1.0//EN
CALSCALE:GREGORIAN
METHOD:PUBLISH
X-WR-CALNAME:Murrays Bay Primary School
X-ORIGINAL-URL:https://www.murraysbay.school.nz
X-WR-CALDESC:Events for Murrays Bay Primary School
REFRESH-INTERVAL;VALUE=DURATION:PT1H
X-Robots-Tag:noindex
X-PUBLISHED-TTL:PT1H
BEGIN:VTIMEZONE
TZID:Pacific/Auckland
BEGIN:STANDARD
TZOFFSETFROM:+1300
TZOFFSETTO:+1200
TZNAME:NZST
DTSTART:20200404T140000
END:STANDARD
BEGIN:DAYLIGHT
TZOFFSETFROM:+1200
TZOFFSETTO:+1300
TZNAME:NZDT
DTSTART:20200926T140000
END:DAYLIGHT
BEGIN:STANDARD
TZOFFSETFROM:+1300
TZOFFSETTO:+1200
TZNAME:NZST
DTSTART:20210403T140000
END:STANDARD
BEGIN:DAYLIGHT
TZOFFSETFROM:+1200
TZOFFSETTO:+1300
TZNAME:NZDT
DTSTART:20210925T140000
END:DAYLIGHT
END:VTIMEZONE
BEGIN:VEVENT
DTSTART;TZID=Pacific/Auckland:20201207T100000
DTEND;TZID=Pacific/Auckland:20201207T140000
DTSTAMP:20260426T163653
CREATED:20201123T211940Z
LAST-MODIFIED:20201123T211940Z
UID:26613-1607335200-1607349600@www.murraysbay.school.nz
SUMMARY:Y6 End of Year Wharf Jump - Murrays Bay Beach
DESCRIPTION:
URL:https://www.murraysbay.school.nz/event/y6-end-of-year-wharf-jump-murrays-bay-beach/
END:VEVENT
BEGIN:VEVENT
DTSTART;TZID=Pacific/Auckland:20201208T190000
DTEND;TZID=Pacific/Auckland:20201208T200000
DTSTAMP:20260426T163653
CREATED:20200303T225821Z
LAST-MODIFIED:20200303T225821Z
UID:25810-1607454000-1607457600@www.murraysbay.school.nz
SUMMARY:BoT Meeting - 7:00pm\, Boardroom
DESCRIPTION:
URL:https://www.murraysbay.school.nz/event/bot-meeting-700pm-boardroom-7/
END:VEVENT
BEGIN:VEVENT
DTSTART;TZID=Pacific/Auckland:20201209T093000
DTEND;TZID=Pacific/Auckland:20201209T103000
DTSTAMP:20260426T163653
CREATED:20201019T213326Z
LAST-MODIFIED:20201019T213326Z
UID:26423-1607506200-1607509800@www.murraysbay.school.nz
SUMMARY:Junior Extravaganza - Waipapa\, 9:30am
DESCRIPTION:
URL:https://www.murraysbay.school.nz/event/junior-extravaganza-waipapa-930am/
END:VEVENT
BEGIN:VEVENT
DTSTART;VALUE=DATE:20201210
DTEND;VALUE=DATE:20201211
DTSTAMP:20260426T163653
CREATED:20201015T025240Z
LAST-MODIFIED:20201015T025240Z
UID:26405-1607558400-1607644799@www.murraysbay.school.nz
SUMMARY:Y5 Snowplanet Trip
DESCRIPTION:
URL:https://www.murraysbay.school.nz/event/y5-snowplanet-trip-2/
END:VEVENT
BEGIN:VEVENT
DTSTART;TZID=Pacific/Auckland:20201210T090000
DTEND;TZID=Pacific/Auckland:20201210T143000
DTSTAMP:20260426T163653
CREATED:20201122T200854Z
LAST-MODIFIED:20201122T200854Z
UID:26608-1607590800-1607610600@www.murraysbay.school.nz
SUMMARY:Year 2 Beach Day - Save Date
DESCRIPTION:
URL:https://www.murraysbay.school.nz/event/year-2-beach-day-save-date/
END:VEVENT
BEGIN:VEVENT
DTSTART;TZID=Pacific/Auckland:20201211T091500
DTEND;TZID=Pacific/Auckland:20201211T104500
DTSTAMP:20260426T163653
CREATED:20201104T222548Z
LAST-MODIFIED:20201104T222548Z
UID:26494-1607678100-1607683500@www.murraysbay.school.nz
SUMMARY:Senior End of Year Prizegiving - Waipapa\, 9:15am
DESCRIPTION:Years 4-6
URL:https://www.murraysbay.school.nz/event/senior-end-of-year-prizegiving-waipapa-915am/
END:VEVENT
BEGIN:VEVENT
DTSTART;TZID=Pacific/Auckland:20201211T113000
DTEND;TZID=Pacific/Auckland:20201211T123000
DTSTAMP:20260426T163653
CREATED:20201104T223002Z
LAST-MODIFIED:20201104T223002Z
UID:26496-1607686200-1607689800@www.murraysbay.school.nz
SUMMARY:Junior End of Year Prizegiving - Waipapa\, 11:30am
DESCRIPTION:Year 0-3
URL:https://www.murraysbay.school.nz/event/junior-end-of-year-prizegiving-waipapa-1130am/
END:VEVENT
BEGIN:VEVENT
DTSTART;TZID=Pacific/Auckland:20201214T063000
DTEND;TZID=Pacific/Auckland:20201214T193000
DTSTAMP:20260426T163653
CREATED:20201104T012658Z
LAST-MODIFIED:20201104T012658Z
UID:26483-1607927400-1607974200@www.murraysbay.school.nz
SUMMARY:Y6 Graduation Ceremony - MBIS Hall\, 6:30pm
DESCRIPTION:Murrays Bay Intermediate School Hall
URL:https://www.murraysbay.school.nz/event/y6-graduation-ceremony-mbis-hall-630pm/
END:VEVENT
BEGIN:VEVENT
DTSTART;TZID=Pacific/Auckland:20201214T090000
DTEND;TZID=Pacific/Auckland:20201214T143000
DTSTAMP:20260426T163653
CREATED:20201103T222324Z
LAST-MODIFIED:20201103T222324Z
UID:26479-1607936400-1607956200@www.murraysbay.school.nz
SUMMARY:Y5 End of Year Beach Trip - Rothesay Bay
DESCRIPTION:
URL:https://www.murraysbay.school.nz/event/y5-end-of-year-beach-trip-rothesay-bay/
END:VEVENT
BEGIN:VEVENT
DTSTART;TZID=Pacific/Auckland:20201214T193000
DTEND;TZID=Pacific/Auckland:20201214T220000
DTSTAMP:20260426T163653
CREATED:20201104T195611Z
LAST-MODIFIED:20201104T195611Z
UID:26486-1607974200-1607983200@www.murraysbay.school.nz
SUMMARY:Y6 Graduation Social - Waipapa
DESCRIPTION:
URL:https://www.murraysbay.school.nz/event/y6-graduation-social-waipapa/
END:VEVENT
BEGIN:VEVENT
DTSTART;TZID=Pacific/Auckland:20201215T090000
DTEND;TZID=Pacific/Auckland:20201215T120000
DTSTAMP:20260426T163653
CREATED:20200907T235346Z
LAST-MODIFIED:20201028T203152Z
UID:26282-1608022800-1608033600@www.murraysbay.school.nz
SUMMARY:Last Day - Term 4\, 12:00pm
DESCRIPTION:NB: The school day will end at midday.
URL:https://www.murraysbay.school.nz/event/last-day-term-4-1200pm/
END:VEVENT
BEGIN:VEVENT
DTSTART;TZID=Pacific/Auckland:20210202T090000
DTEND;TZID=Pacific/Auckland:20210202T140000
DTSTAMP:20260426T163653
CREATED:20201214T013033Z
LAST-MODIFIED:20201214T013033Z
UID:26669-1612256400-1612274400@www.murraysbay.school.nz
SUMMARY:Office Open
DESCRIPTION:
URL:https://www.murraysbay.school.nz/event/office-open/
END:VEVENT
BEGIN:VEVENT
DTSTART;TZID=Pacific/Auckland:20210203T090000
DTEND;TZID=Pacific/Auckland:20210203T140000
DTSTAMP:20260426T163653
CREATED:20201214T013115Z
LAST-MODIFIED:20201214T013115Z
UID:26671-1612342800-1612360800@www.murraysbay.school.nz
SUMMARY:Office Open
DESCRIPTION:
URL:https://www.murraysbay.school.nz/event/office-open-2/
END:VEVENT
BEGIN:VEVENT
DTSTART;TZID=Pacific/Auckland:20210204T090000
DTEND;TZID=Pacific/Auckland:20210204T140000
DTSTAMP:20260426T163653
CREATED:20201214T013206Z
LAST-MODIFIED:20201214T013206Z
UID:26674-1612429200-1612447200@www.murraysbay.school.nz
SUMMARY:Office Open
DESCRIPTION:
URL:https://www.murraysbay.school.nz/event/office-open-3/
END:VEVENT
BEGIN:VEVENT
DTSTART;TZID=Pacific/Auckland:20210204T100000
DTEND;TZID=Pacific/Auckland:20210204T120000
DTSTAMP:20260426T163653
CREATED:20201210T220505Z
LAST-MODIFIED:20201210T220505Z
UID:26667-1612432800-1612440000@www.murraysbay.school.nz
SUMMARY:PTA Second Hand Uniform Shop - Open
DESCRIPTION:Located in the PTA Room\, beside the school pool \n10:00am-12:00pm
URL:https://www.murraysbay.school.nz/event/pta-second-hand-uniform-shop-open/
END:VEVENT
BEGIN:VEVENT
DTSTART;TZID=Pacific/Auckland:20210205T090000
DTEND;TZID=Pacific/Auckland:20210205T120000
DTSTAMP:20260426T163653
CREATED:20201214T013248Z
LAST-MODIFIED:20201214T013248Z
UID:26676-1612515600-1612526400@www.murraysbay.school.nz
SUMMARY:Office Open
DESCRIPTION:
URL:https://www.murraysbay.school.nz/event/office-open-4/
END:VEVENT
BEGIN:VEVENT
DTSTART;VALUE=DATE:20210208
DTEND;VALUE=DATE:20210209
DTSTAMP:20260426T163653
CREATED:20200602T224444Z
LAST-MODIFIED:20200602T224444Z
UID:25984-1612742400-1612828799@www.murraysbay.school.nz
SUMMARY:Waitangi Day Observed - School Closed
DESCRIPTION:
URL:https://www.murraysbay.school.nz/event/waitangi-day-observed-school-closed/
END:VEVENT
BEGIN:VEVENT
DTSTART;VALUE=DATE:20210209
DTEND;VALUE=DATE:20210210
DTSTAMP:20260426T163653
CREATED:20200602T224224Z
LAST-MODIFIED:20200602T224224Z
UID:25980-1612828800-1612915199@www.murraysbay.school.nz
SUMMARY:First Day Term 1\, 2021 - 8:55am
DESCRIPTION:
URL:https://www.murraysbay.school.nz/event/first-day-term-1-2021-855am/
END:VEVENT
BEGIN:VEVENT
DTSTART;TZID=Pacific/Auckland:20210209T091500
DTEND;TZID=Pacific/Auckland:20210209T093000
DTSTAMP:20260426T163653
CREATED:20201210T013336Z
LAST-MODIFIED:20201210T013336Z
UID:26662-1612862100-1612863000@www.murraysbay.school.nz
SUMMARY:Pōwhiri - Waipapa\, 9:15am
DESCRIPTION:Welcome to all new students and staff at MBPS
URL:https://www.murraysbay.school.nz/event/powhiri-waipapa-915am-3/
END:VEVENT
BEGIN:VEVENT
DTSTART;TZID=Pacific/Auckland:20210212T090000
DTEND;TZID=Pacific/Auckland:20210212T100000
DTSTAMP:20260426T163653
CREATED:20210202T214103Z
LAST-MODIFIED:20210202T214103Z
UID:26731-1613120400-1613124000@www.murraysbay.school.nz
SUMMARY:Whole School Assembly - Waipapa\, 9:15am
DESCRIPTION:
URL:https://www.murraysbay.school.nz/event/whole-school-assembly-waipapa-915am/
END:VEVENT
BEGIN:VEVENT
DTSTART;TZID=Pacific/Auckland:20210219T090000
DTEND;TZID=Pacific/Auckland:20210219T100000
DTSTAMP:20260426T163653
CREATED:20210202T214149Z
LAST-MODIFIED:20210217T222940Z
UID:26733-1613725200-1613728800@www.murraysbay.school.nz
SUMMARY:Senior School Assembly - via Google Meet
DESCRIPTION:
URL:https://www.murraysbay.school.nz/event/senior-school-assembly-waipapa-915am/
END:VEVENT
BEGIN:VEVENT
DTSTART;VALUE=DATE:20210222
DTEND;VALUE=DATE:20210225
DTSTAMP:20260426T163653
CREATED:20201015T014347Z
LAST-MODIFIED:20201015T014347Z
UID:26395-1613952000-1614211199@www.murraysbay.school.nz
SUMMARY:Y5 Camp - Carey Park
DESCRIPTION:
URL:https://www.murraysbay.school.nz/event/y5-camp-carey-park/
END:VEVENT
BEGIN:VEVENT
DTSTART;TZID=Pacific/Auckland:20210224T190000
DTEND;TZID=Pacific/Auckland:20210224T200000
DTSTAMP:20260426T163653
CREATED:20201111T230130Z
LAST-MODIFIED:20201130T210002Z
UID:26520-1614193200-1614196800@www.murraysbay.school.nz
SUMMARY:BoT Meeting - Boardroom\, 7:00pm
DESCRIPTION:
URL:https://www.murraysbay.school.nz/event/bot-meeting-boardroom-700pm-2/
END:VEVENT
BEGIN:VEVENT
DTSTART;VALUE=DATE:20210226
DTEND;VALUE=DATE:20210302
DTSTAMP:20260426T163653
CREATED:20200923T204942Z
LAST-MODIFIED:20200923T204942Z
UID:26318-1614297600-1614643199@www.murraysbay.school.nz
SUMMARY:Y6 Camp 2021 - Mototapu Island
DESCRIPTION:
URL:https://www.murraysbay.school.nz/event/y6-camp-2021-mototapu-island/
END:VEVENT
BEGIN:VEVENT
DTSTART;VALUE=DATE:20210226
DTEND;VALUE=DATE:20210302
DTSTAMP:20260426T163653
CREATED:20201120T013029Z
LAST-MODIFIED:20201120T013029Z
UID:26606-1614297600-1614643199@www.murraysbay.school.nz
SUMMARY:Year 6 Camp - Mototapu Island
DESCRIPTION:
URL:https://www.murraysbay.school.nz/event/year-6-camp-mototapu-island/
END:VEVENT
BEGIN:VEVENT
DTSTART;TZID=Pacific/Auckland:20210226T090000
DTEND;TZID=Pacific/Auckland:20210226T100000
DTSTAMP:20260426T163653
CREATED:20210202T215552Z
LAST-MODIFIED:20210202T215552Z
UID:26735-1614330000-1614333600@www.murraysbay.school.nz
SUMMARY:Junior School Assembly - Waipapa\, 9:15am
DESCRIPTION:
URL:https://www.murraysbay.school.nz/event/junior-school-assembly-waipapa-915am-3/
END:VEVENT
BEGIN:VEVENT
DTSTART;TZID=Pacific/Auckland:20210302T190000
DTEND;TZID=Pacific/Auckland:20210302T200000
DTSTAMP:20260426T163653
CREATED:20210211T225217Z
LAST-MODIFIED:20210228T201542Z
UID:26783-1614711600-1614715200@www.murraysbay.school.nz
SUMMARY:POSTPONED PTA Meeting - Staffroom 7:00pm
DESCRIPTION:
URL:https://www.murraysbay.school.nz/event/pta-meeting-staffroom-700pm-15/
END:VEVENT
BEGIN:VEVENT
DTSTART;TZID=Pacific/Auckland:20210303T090000
DTEND;TZID=Pacific/Auckland:20210303T130000
DTSTAMP:20260426T163653
CREATED:20210222T004300Z
LAST-MODIFIED:20210228T201346Z
UID:26831-1614762000-1614776400@www.murraysbay.school.nz
SUMMARY:POSTPONED Year 2 Team Building Day - MBPS Field
DESCRIPTION:
URL:https://www.murraysbay.school.nz/event/year-2-team-building-day-mbps-field/
END:VEVENT
BEGIN:VEVENT
DTSTART;TZID=Pacific/Auckland:20210303T140000
DTEND;TZID=Pacific/Auckland:20210303T150000
DTSTAMP:20260426T163653
CREATED:20210225T223051Z
LAST-MODIFIED:20210228T201508Z
UID:26846-1614780000-1614783600@www.murraysbay.school.nz
SUMMARY:POSTPONED NZ Schooling Parent Information Session (Literacy - Reading & Writing) - 2:00pm
DESCRIPTION:
URL:https://www.murraysbay.school.nz/event/nz-schooling-parent-information-session-literacy-reading-writing-200pm/
END:VEVENT
BEGIN:VEVENT
DTSTART;TZID=Pacific/Auckland:20210303T180000
DTEND;TZID=Pacific/Auckland:20210303T190000
DTSTAMP:20260426T163653
CREATED:20210225T223321Z
LAST-MODIFIED:20210228T201555Z
UID:26848-1614794400-1614798000@www.murraysbay.school.nz
SUMMARY:POSTPONED NZ Schooling Parent Information Session (Literacy - Reading & Writing) - 6:00pm
DESCRIPTION:
URL:https://www.murraysbay.school.nz/event/nz-schooling-parent-information-session-literacy-reading-writing-600pm/
END:VEVENT
END:VCALENDAR