BEGIN:VCALENDAR
VERSION:2.0
PRODID:-//Murrays Bay Primary School - ECPv6.10.1.1//NONSGML v1.0//EN
CALSCALE:GREGORIAN
METHOD:PUBLISH
X-ORIGINAL-URL:https://www.murraysbay.school.nz
X-WR-CALDESC:Events for Murrays Bay Primary School
REFRESH-INTERVAL;VALUE=DURATION:PT1H
X-Robots-Tag:noindex
X-PUBLISHED-TTL:PT1H
BEGIN:VTIMEZONE
TZID:Pacific/Auckland
BEGIN:STANDARD
TZOFFSETFROM:+1300
TZOFFSETTO:+1200
TZNAME:NZST
DTSTART:20200404T140000
END:STANDARD
BEGIN:DAYLIGHT
TZOFFSETFROM:+1200
TZOFFSETTO:+1300
TZNAME:NZDT
DTSTART:20200926T140000
END:DAYLIGHT
END:VTIMEZONE
BEGIN:VEVENT
DTSTART;TZID=Pacific/Auckland:20200203T091500
DTEND;TZID=Pacific/Auckland:20200203T094500
DTSTAMP:20260422T215442
CREATED:20200120T040940Z
LAST-MODIFIED:20200120T040940Z
UID:25588-1580721300-1580723100@www.murraysbay.school.nz
SUMMARY:Pōwhiri - 9:15am\, Waipapa
DESCRIPTION:Pōwhiri for students and staff starting at Murrays Bay Primary School.
URL:https://www.murraysbay.school.nz/event/powhiri-915am-waipapa/
END:VEVENT
BEGIN:VEVENT
DTSTART;VALUE=DATE:20200204
DTEND;VALUE=DATE:20200212
DTSTAMP:20260422T215442
CREATED:20200204T000542Z
LAST-MODIFIED:20200204T020211Z
UID:25656-1580774400-1581465599@www.murraysbay.school.nz
SUMMARY:Mini Ball Registrations Open - Term 1 & 2
DESCRIPTION:Y3/4 Mini Ball Junior Breakers \nhttps://forms.gle/cHtSCPnCFCmvEj9o6 \n  \nY5/6 Mini Ball \nhttps://forms.gle/3yDZVB7DzQFK1wWH7
URL:https://www.murraysbay.school.nz/event/mini-ball-registrations-open-term-1-2/
END:VEVENT
BEGIN:VEVENT
DTSTART;VALUE=DATE:20200206
DTEND;VALUE=DATE:20200207
DTSTAMP:20260422T215442
CREATED:20200120T040712Z
LAST-MODIFIED:20200120T040712Z
UID:25586-1580947200-1581033599@www.murraysbay.school.nz
SUMMARY:Waitangi Day - School Closed
DESCRIPTION:
URL:https://www.murraysbay.school.nz/event/waitangi-day-school-closed/
END:VEVENT
BEGIN:VEVENT
DTSTART;TZID=Pacific/Auckland:20200207T091500
DTEND;TZID=Pacific/Auckland:20200207T101500
DTSTAMP:20260422T215442
CREATED:20200207T015632Z
LAST-MODIFIED:20200207T015632Z
UID:25673-1581066900-1581070500@www.murraysbay.school.nz
SUMMARY:Full School Assembly - Waipapa\, 9:15am
DESCRIPTION:
URL:https://www.murraysbay.school.nz/event/full-school-assembly-waipapa-915am-5/
END:VEVENT
BEGIN:VEVENT
DTSTART;TZID=Pacific/Auckland:20200207T130000
DTEND;TZID=Pacific/Auckland:20200207T140000
DTSTAMP:20260422T215442
CREATED:20200129T020711Z
LAST-MODIFIED:20200129T020711Z
UID:25634-1581080400-1581084000@www.murraysbay.school.nz
SUMMARY:Y5 Basketball Trials- Waipapa\, 1:00pm
DESCRIPTION:
URL:https://www.murraysbay.school.nz/event/y5-basketball-trials-waipapa-100pm/
END:VEVENT
BEGIN:VEVENT
DTSTART;TZID=Pacific/Auckland:20200208T140000
DTEND;TZID=Pacific/Auckland:20200208T150000
DTSTAMP:20260422T215442
CREATED:20200120T034631Z
LAST-MODIFIED:20200120T034631Z
UID:25579-1581170400-1581174000@www.murraysbay.school.nz
SUMMARY:Flipper Ball Trials (Years 5 & 6 only) - AUT Millennium
DESCRIPTION:Years 5 & 6 Students only \n2:00pm-3:00pm \nAUT Millennium \nLanes 1 & 2
URL:https://www.murraysbay.school.nz/event/flipper-ball-trials-years-5-6-only-aut-millennium/
END:VEVENT
BEGIN:VEVENT
DTSTART;VALUE=DATE:20200210
DTEND;VALUE=DATE:20200218
DTSTAMP:20260422T215442
CREATED:20200210T005948Z
LAST-MODIFIED:20200210T005948Z
UID:25695-1581292800-1581983999@www.murraysbay.school.nz
SUMMARY:Y4-6 Swimming Sports Entry Open
DESCRIPTION:Entries close 3pm Tuesday 18th of February\, late entries will not be considered.
URL:https://www.murraysbay.school.nz/event/y4-6-swimming-sports-entry-open/
END:VEVENT
BEGIN:VEVENT
DTSTART;TZID=Pacific/Auckland:20200212T130000
DTEND;TZID=Pacific/Auckland:20200212T140000
DTSTAMP:20260422T215442
CREATED:20200129T020750Z
LAST-MODIFIED:20200129T020750Z
UID:25636-1581512400-1581516000@www.murraysbay.school.nz
SUMMARY:Y6 Basketball Trials - Waipapa\, 1:00pm
DESCRIPTION:
URL:https://www.murraysbay.school.nz/event/y6-basketball-trials-waipapa-100pm/
END:VEVENT
BEGIN:VEVENT
DTSTART;TZID=Pacific/Auckland:20200212T190000
DTEND;TZID=Pacific/Auckland:20200212T200000
DTSTAMP:20260422T215442
CREATED:20191218T214334Z
LAST-MODIFIED:20200205T024701Z
UID:25533-1581534000-1581537600@www.murraysbay.school.nz
SUMMARY:PTA Meeting - Staffroom\, 7:00pm
DESCRIPTION:
URL:https://www.murraysbay.school.nz/event/pta-meeting-staffroom-700pm-8/
END:VEVENT
BEGIN:VEVENT
DTSTART;TZID=Pacific/Auckland:20200213T090000
DTEND;TZID=Pacific/Auckland:20200213T143000
DTSTAMP:20260422T215442
CREATED:20190919T220748Z
LAST-MODIFIED:20190919T220748Z
UID:25158-1581584400-1581604200@www.murraysbay.school.nz
SUMMARY:Year 5 Water Safety
DESCRIPTION:Millennium Institute
URL:https://www.murraysbay.school.nz/event/year-5-water-safety/
END:VEVENT
BEGIN:VEVENT
DTSTART;TZID=Pacific/Auckland:20200214T091500
DTEND;TZID=Pacific/Auckland:20200214T101500
DTSTAMP:20260422T215442
CREATED:20200207T015724Z
LAST-MODIFIED:20200213T072701Z
UID:25675-1581671700-1581675300@www.murraysbay.school.nz
SUMMARY:Junior School Assembly - Waipapa\, alternate start time - 11:30am
DESCRIPTION:Year 1 – 3
URL:https://www.murraysbay.school.nz/event/junior-school-assembly-waipapa-915am/
END:VEVENT
BEGIN:VEVENT
DTSTART;TZID=Pacific/Auckland:20200219T090000
DTEND;TZID=Pacific/Auckland:20200219T103000
DTSTAMP:20260422T215442
CREATED:20191203T205016Z
LAST-MODIFIED:20191203T205016Z
UID:25484-1582102800-1582108200@www.murraysbay.school.nz
SUMMARY:Walking School Bus Meeting - 9am\, Staffroom
DESCRIPTION:
URL:https://www.murraysbay.school.nz/event/walking-school-bus-meeting-9am-staffroom/
END:VEVENT
BEGIN:VEVENT
DTSTART;TZID=Pacific/Auckland:20200224T090000
DTEND;TZID=Pacific/Auckland:20200224T143000
DTSTAMP:20260422T215442
CREATED:20200120T034819Z
LAST-MODIFIED:20200129T015616Z
UID:25581-1582534800-1582554600@www.murraysbay.school.nz
SUMMARY:MBPS Swimming Sports - Years 4-6
DESCRIPTION:Years 4-6 students only \nNorthern Arena
URL:https://www.murraysbay.school.nz/event/mbps-swimming-sports-years-4-6/
END:VEVENT
BEGIN:VEVENT
DTSTART;VALUE=DATE:20200227
DTEND;VALUE=DATE:20200228
DTSTAMP:20260422T215442
CREATED:20200221T020243Z
LAST-MODIFIED:20200221T020243Z
UID:25760-1582761600-1582847999@www.murraysbay.school.nz
SUMMARY:Year 3 Sleepover - Waipapa
DESCRIPTION:
URL:https://www.murraysbay.school.nz/event/year-3-sleepover-waipapa/
END:VEVENT
BEGIN:VEVENT
DTSTART;VALUE=DATE:20200227
DTEND;VALUE=DATE:20200318
DTSTAMP:20260422T215442
CREATED:20200226T204718Z
LAST-MODIFIED:20200226T204718Z
UID:25781-1582761600-1584489599@www.murraysbay.school.nz
SUMMARY:Netball Registrations Open
DESCRIPTION:Registrations Close 17 March 2020
URL:https://www.murraysbay.school.nz/event/netball-registrations-open/
END:VEVENT
BEGIN:VEVENT
DTSTART;VALUE=DATE:20200227
DTEND;VALUE=DATE:20200320
DTSTAMP:20260422T215442
CREATED:20200226T204818Z
LAST-MODIFIED:20200226T204818Z
UID:25783-1582761600-1584662399@www.murraysbay.school.nz
SUMMARY:Hockey Registrations Open
DESCRIPTION:Registrations close 19 March 2020
URL:https://www.murraysbay.school.nz/event/hockey-registrations-open/
END:VEVENT
BEGIN:VEVENT
DTSTART;TZID=Pacific/Auckland:20200228T091500
DTEND;TZID=Pacific/Auckland:20200228T101500
DTSTAMP:20260422T215442
CREATED:20200207T020508Z
LAST-MODIFIED:20200207T020508Z
UID:25679-1582881300-1582884900@www.murraysbay.school.nz
SUMMARY:Full School Assembly - Waipapa\, 9:15am
DESCRIPTION:
URL:https://www.murraysbay.school.nz/event/full-school-assembly-waipapa-915am-6/
END:VEVENT
BEGIN:VEVENT
DTSTART;TZID=Pacific/Auckland:20200228T113000
DTEND;TZID=Pacific/Auckland:20200228T123000
DTSTAMP:20260422T215442
CREATED:20200210T015911Z
LAST-MODIFIED:20200210T015911Z
UID:25700-1582889400-1582893000@www.murraysbay.school.nz
SUMMARY:Executive Student Government Elections
DESCRIPTION:
URL:https://www.murraysbay.school.nz/event/executive-student-government-elections/
END:VEVENT
BEGIN:VEVENT
DTSTART;TZID=Pacific/Auckland:20200302T101500
DTEND;TZID=Pacific/Auckland:20200302T110000
DTSTAMP:20260422T215442
CREATED:20200210T015758Z
LAST-MODIFIED:20200210T015949Z
UID:25698-1583144100-1583146800@www.murraysbay.school.nz
SUMMARY:House Captain Elections
DESCRIPTION:
URL:https://www.murraysbay.school.nz/event/house-captain-elections/
END:VEVENT
BEGIN:VEVENT
DTSTART;TZID=Pacific/Auckland:20200304T151500
DTEND;TZID=Pacific/Auckland:20200304T190000
DTSTAMP:20260422T215442
CREATED:20200216T203957Z
LAST-MODIFIED:20200216T203957Z
UID:25726-1583334900-1583348400@www.murraysbay.school.nz
SUMMARY:Meet the Parent/Goal Setting Conferences
DESCRIPTION:
URL:https://www.murraysbay.school.nz/event/meet-the-parent-goal-setting-conferences/
END:VEVENT
BEGIN:VEVENT
DTSTART;TZID=Pacific/Auckland:20200305T140000
DTEND;TZID=Pacific/Auckland:20200305T180000
DTSTAMP:20260422T215442
CREATED:20200216T204030Z
LAST-MODIFIED:20200216T204030Z
UID:25728-1583416800-1583431200@www.murraysbay.school.nz
SUMMARY:Meet the Parent/Goal Setting Conferences
DESCRIPTION:
URL:https://www.murraysbay.school.nz/event/meet-the-parent-goal-setting-conferences-2/
END:VEVENT
BEGIN:VEVENT
DTSTART;TZID=Pacific/Auckland:20200306T091500
DTEND;TZID=Pacific/Auckland:20200306T101500
DTSTAMP:20260422T215442
CREATED:20200207T020734Z
LAST-MODIFIED:20200207T020734Z
UID:25681-1583486100-1583489700@www.murraysbay.school.nz
SUMMARY:Junior School Assembly - Waipapa\, 9:15am
DESCRIPTION:
URL:https://www.murraysbay.school.nz/event/junior-school-assembly-waipapa-915am-2/
END:VEVENT
BEGIN:VEVENT
DTSTART;TZID=Pacific/Auckland:20200307T100000
DTEND;TZID=Pacific/Auckland:20200307T120000
DTSTAMP:20260422T215442
CREATED:20200305T210538Z
LAST-MODIFIED:20200305T210538Z
UID:25815-1583575200-1583582400@www.murraysbay.school.nz
SUMMARY:PTA Donation Room Open
DESCRIPTION:
URL:https://www.murraysbay.school.nz/event/pta-donation-room-open/
END:VEVENT
BEGIN:VEVENT
DTSTART;TZID=Pacific/Auckland:20200308T100000
DTEND;TZID=Pacific/Auckland:20200308T120000
DTSTAMP:20260422T215442
CREATED:20200305T210604Z
LAST-MODIFIED:20200305T210604Z
UID:25817-1583661600-1583668800@www.murraysbay.school.nz
SUMMARY:PTA Donation Room Open
DESCRIPTION:
URL:https://www.murraysbay.school.nz/event/pta-donation-room-open-2/
END:VEVENT
BEGIN:VEVENT
DTSTART;VALUE=DATE:20200309
DTEND;VALUE=DATE:20200310
DTSTAMP:20260422T215442
CREATED:20200305T222942Z
LAST-MODIFIED:20200305T222942Z
UID:25829-1583712000-1583798399@www.murraysbay.school.nz
SUMMARY:Year 4 Camp - Kererū CJ
DESCRIPTION:
URL:https://www.murraysbay.school.nz/event/year-4-camp-kereru-cj/
END:VEVENT
BEGIN:VEVENT
DTSTART;VALUE=DATE:20200310
DTEND;VALUE=DATE:20200311
DTSTAMP:20260422T215442
CREATED:20200305T223012Z
LAST-MODIFIED:20200305T223012Z
UID:25831-1583798400-1583884799@www.murraysbay.school.nz
SUMMARY:Year 4 Camp - Tīēke JO
DESCRIPTION:
URL:https://www.murraysbay.school.nz/event/year-4-camp-tieke-jo/
END:VEVENT
BEGIN:VEVENT
DTSTART;TZID=Pacific/Auckland:20200310T083000
DTEND;TZID=Pacific/Auckland:20200310T150000
DTSTAMP:20260422T215442
CREATED:20200303T012513Z
LAST-MODIFIED:20200303T012513Z
UID:25792-1583829000-1583852400@www.murraysbay.school.nz
SUMMARY:Inter-school Cricket Tournament
DESCRIPTION:
URL:https://www.murraysbay.school.nz/event/inter-school-cricket-tournament/
END:VEVENT
BEGIN:VEVENT
DTSTART;TZID=Pacific/Auckland:20200310T190000
DTEND;TZID=Pacific/Auckland:20200310T200000
DTSTAMP:20260422T215442
CREATED:20191218T214419Z
LAST-MODIFIED:20191218T214419Z
UID:25535-1583866800-1583870400@www.murraysbay.school.nz
SUMMARY:PTA Meeting - Staffroom\, 7:00pm
DESCRIPTION:
URL:https://www.murraysbay.school.nz/event/pta-meeting-staffroom-700pm-9/
END:VEVENT
BEGIN:VEVENT
DTSTART;VALUE=DATE:20200311
DTEND;VALUE=DATE:20200312
DTSTAMP:20260422T215442
CREATED:20200206T193954Z
LAST-MODIFIED:20200206T193954Z
UID:25668-1583884800-1583971199@www.murraysbay.school.nz
SUMMARY:Outdoor Day - Year 2
DESCRIPTION:
URL:https://www.murraysbay.school.nz/event/outdoor-day-year-2/
END:VEVENT
BEGIN:VEVENT
DTSTART;VALUE=DATE:20200311
DTEND;VALUE=DATE:20200312
DTSTAMP:20260422T215442
CREATED:20200305T223039Z
LAST-MODIFIED:20200305T223039Z
UID:25833-1583884800-1583971199@www.murraysbay.school.nz
SUMMARY:Year 4 Camp - Kororā JG
DESCRIPTION:
URL:https://www.murraysbay.school.nz/event/year-4-camp-korora-jg/
END:VEVENT
END:VCALENDAR