BEGIN:VCALENDAR
VERSION:2.0
PRODID:-//Murrays Bay Primary School - ECPv6.10.1.1//NONSGML v1.0//EN
CALSCALE:GREGORIAN
METHOD:PUBLISH
X-WR-CALNAME:Murrays Bay Primary School
X-ORIGINAL-URL:https://www.murraysbay.school.nz
X-WR-CALDESC:Events for Murrays Bay Primary School
REFRESH-INTERVAL;VALUE=DURATION:PT1H
X-Robots-Tag:noindex
X-PUBLISHED-TTL:PT1H
BEGIN:VTIMEZONE
TZID:Pacific/Auckland
BEGIN:STANDARD
TZOFFSETFROM:+1300
TZOFFSETTO:+1200
TZNAME:NZST
DTSTART:20180331T140000
END:STANDARD
BEGIN:DAYLIGHT
TZOFFSETFROM:+1200
TZOFFSETTO:+1300
TZNAME:NZDT
DTSTART:20180929T140000
END:DAYLIGHT
END:VTIMEZONE
BEGIN:VEVENT
DTSTART;TZID=Pacific/Auckland:20180326T141500
DTEND;TZID=Pacific/Auckland:20180326T150000
DTSTAMP:20260423T105013
CREATED:20171218T024712Z
LAST-MODIFIED:20171218T024712Z
UID:22384-1522073700-1522076400@www.murraysbay.school.nz
SUMMARY:New Student Parent Orientation Meeting 2.15pm - 3pm
DESCRIPTION:
URL:https://www.murraysbay.school.nz/event/new-student-parent-orientation-meeting-2-15pm-3pm/
END:VEVENT
BEGIN:VEVENT
DTSTART;TZID=Pacific/Auckland:20180323T150000
DTEND;TZID=Pacific/Auckland:20180323T190000
DTSTAMP:20260423T105013
CREATED:20171218T024444Z
LAST-MODIFIED:20171218T024444Z
UID:22380-1521817200-1521831600@www.murraysbay.school.nz
SUMMARY:Twilight Festival
DESCRIPTION:
URL:https://www.murraysbay.school.nz/event/twilight-festival/
END:VEVENT
BEGIN:VEVENT
DTSTART;TZID=Pacific/Auckland:20180323T091500
DTEND;TZID=Pacific/Auckland:20180323T101500
DTSTAMP:20260423T105013
CREATED:20171218T024556Z
LAST-MODIFIED:20171218T024556Z
UID:22382-1521796500-1521800100@www.murraysbay.school.nz
SUMMARY:Full School Assembly
DESCRIPTION:
URL:https://www.murraysbay.school.nz/event/full-school-assembly-10/
END:VEVENT
BEGIN:VEVENT
DTSTART;VALUE=DATE:20180319
DTEND;VALUE=DATE:20180324
DTSTAMP:20260423T105013
CREATED:20171218T024351Z
LAST-MODIFIED:20180225T201046Z
UID:22378-1521417600-1521849599@www.murraysbay.school.nz
SUMMARY:Y5 Waterwise Week
DESCRIPTION:
URL:https://www.murraysbay.school.nz/event/y6-waterwise-week-2/
END:VEVENT
BEGIN:VEVENT
DTSTART;TZID=Pacific/Auckland:20180316T083000
DTEND;TZID=Pacific/Auckland:20180316T143000
DTSTAMP:20260423T105013
CREATED:20180126T013410Z
LAST-MODIFIED:20180213T231232Z
UID:22438-1521189000-1521210600@www.murraysbay.school.nz
SUMMARY:Mid Bays Tennis - Save Day
DESCRIPTION:
URL:https://www.murraysbay.school.nz/event/mid-bays-tennis-save-day-2/
END:VEVENT
BEGIN:VEVENT
DTSTART;TZID=Pacific/Auckland:20180315T083000
DTEND;TZID=Pacific/Auckland:20180315T143000
DTSTAMP:20260423T105013
CREATED:20180126T013217Z
LAST-MODIFIED:20180213T231149Z
UID:22436-1521102600-1521124200@www.murraysbay.school.nz
SUMMARY:Mid Bays Tennis
DESCRIPTION:
URL:https://www.murraysbay.school.nz/event/mid-bays-tennis-3/
END:VEVENT
BEGIN:VEVENT
DTSTART;VALUE=DATE:20180314
DTEND;VALUE=DATE:20180315
DTSTAMP:20260423T105013
CREATED:20180304T200821Z
LAST-MODIFIED:20180304T200825Z
UID:22904-1520985600-1521071999@www.murraysbay.school.nz
SUMMARY:Y6 Waterwise - Make up day - Lydia Ries
DESCRIPTION:
URL:https://www.murraysbay.school.nz/event/y6-waterwise-make-up-day-lydia-ries/
END:VEVENT
BEGIN:VEVENT
DTSTART;TZID=Pacific/Auckland:20180313T090000
DTEND;TZID=Pacific/Auckland:20180313T143000
DTSTAMP:20260423T105013
CREATED:20180130T234604Z
LAST-MODIFIED:20180311T220049Z
UID:22751-1520931600-1520951400@www.murraysbay.school.nz
SUMMARY:MBS Swimming Gala
DESCRIPTION:Northern Arena\, Silverdale \nTimetable of events
URL:https://www.murraysbay.school.nz/event/mbs-swimming-gala/
END:VEVENT
BEGIN:VEVENT
DTSTART;TZID=Pacific/Auckland:20180312T170000
DTEND;TZID=Pacific/Auckland:20180312T180000
DTSTAMP:20260423T105013
CREATED:20171218T024022Z
LAST-MODIFIED:20171218T024022Z
UID:22376-1520874000-1520877600@www.murraysbay.school.nz
SUMMARY:ECB Rotary Visit - Trees for Survival
DESCRIPTION:
URL:https://www.murraysbay.school.nz/event/ecb-rotary-visit-trees-for-survival/
END:VEVENT
BEGIN:VEVENT
DTSTART;VALUE=DATE:20180312
DTEND;VALUE=DATE:20180316
DTSTAMP:20260423T105013
CREATED:20171218T023934Z
LAST-MODIFIED:20180214T031534Z
UID:22374-1520812800-1521158399@www.murraysbay.school.nz
SUMMARY:Year 4 Zoo Camp
DESCRIPTION:Caryn Johannesson / Sarah Osborne – Monday 12th March \nJan Smal – Tuesday 13th March \nGretchen Bruner – Wednesday 14th March \nLisa Wilson – Thursday 15th March \nFor more information please click here: www.murraysbay.school.nz/new-parents/letters-home/ \n  \n  \n 
URL:https://www.murraysbay.school.nz/event/year-4-zoo-camp/
END:VEVENT
BEGIN:VEVENT
DTSTART;VALUE=DATE:20180312
DTEND;VALUE=DATE:20180313
DTSTAMP:20260423T105013
CREATED:20180304T200750Z
LAST-MODIFIED:20180304T200750Z
UID:22902-1520812800-1520899199@www.murraysbay.school.nz
SUMMARY:Y6 Waterwise - Make up day - Michael Lawton
DESCRIPTION:
URL:https://www.murraysbay.school.nz/event/y6-waterwise-make-up-day-michael-lawton/
END:VEVENT
BEGIN:VEVENT
DTSTART;TZID=Pacific/Auckland:20180309T091500
DTEND;TZID=Pacific/Auckland:20180309T101500
DTSTAMP:20260423T105013
CREATED:20171218T023709Z
LAST-MODIFIED:20171218T023709Z
UID:22370-1520586900-1520590500@www.murraysbay.school.nz
SUMMARY:Full School Assembly
DESCRIPTION:Held in Waipapa 9.15am – 10.15am
URL:https://www.murraysbay.school.nz/event/full-school-assembly-9/
END:VEVENT
BEGIN:VEVENT
DTSTART;TZID=Pacific/Auckland:20180308T190000
DTEND;TZID=Pacific/Auckland:20180308T200000
DTSTAMP:20260423T105013
CREATED:20171218T023615Z
LAST-MODIFIED:20171218T023615Z
UID:22368-1520535600-1520539200@www.murraysbay.school.nz
SUMMARY:PTA Meeting
DESCRIPTION:Meetings are held in the school staffroom and everyone is welcome to attend.
URL:https://www.murraysbay.school.nz/event/pta-meeting-17/
END:VEVENT
BEGIN:VEVENT
DTSTART;VALUE=DATE:20180301
DTEND;VALUE=DATE:20180302
DTSTAMP:20260423T105013
CREATED:20180214T011108Z
LAST-MODIFIED:20180214T011150Z
UID:22805-1519862400-1519948799@www.murraysbay.school.nz
SUMMARY:Y3 Sleepover and EOTC Day
DESCRIPTION:
URL:https://www.murraysbay.school.nz/event/y3-sleepover-and-eotc-day/
END:VEVENT
BEGIN:VEVENT
DTSTART;VALUE=DATE:20180228
DTEND;VALUE=DATE:20180301
DTSTAMP:20260423T105013
CREATED:20180220T201950Z
LAST-MODIFIED:20180220T201950Z
UID:22835-1519776000-1519862399@www.murraysbay.school.nz
SUMMARY:Mid Bays Cricket
DESCRIPTION:Takapuna Cricket Club
URL:https://www.murraysbay.school.nz/event/mid-bays-cricket/
END:VEVENT
BEGIN:VEVENT
DTSTART;TZID=Pacific/Auckland:20180227T190000
DTEND;TZID=Pacific/Auckland:20180227T200000
DTSTAMP:20260423T105013
CREATED:20180130T011616Z
LAST-MODIFIED:20180130T011623Z
UID:22474-1519758000-1519761600@www.murraysbay.school.nz
SUMMARY:BOT Meeting
DESCRIPTION:7 – 8pm \nSchool Boardroom
URL:https://www.murraysbay.school.nz/event/bot-meeting-15/
END:VEVENT
BEGIN:VEVENT
DTSTART;VALUE=DATE:20180226
DTEND;VALUE=DATE:20180303
DTSTAMP:20260423T105013
CREATED:20171218T021912Z
LAST-MODIFIED:20180225T195003Z
UID:22365-1519603200-1520035199@www.murraysbay.school.nz
SUMMARY:Year 6 Waterwise Week
DESCRIPTION:
URL:https://www.murraysbay.school.nz/event/year-5-waterwise-week/
END:VEVENT
BEGIN:VEVENT
DTSTART;TZID=Pacific/Auckland:20180223T091500
DTEND;TZID=Pacific/Auckland:20180223T221500
DTSTAMP:20260423T105013
CREATED:20171218T021804Z
LAST-MODIFIED:20171218T021804Z
UID:22363-1519377300-1519424100@www.murraysbay.school.nz
SUMMARY:Full School Assembly
DESCRIPTION:
URL:https://www.murraysbay.school.nz/event/full-school-assembly-8/
END:VEVENT
BEGIN:VEVENT
DTSTART;TZID=Pacific/Auckland:20180221T151500
DTEND;TZID=Pacific/Auckland:20180221T200000
DTSTAMP:20260423T105013
CREATED:20171218T021730Z
LAST-MODIFIED:20171218T021730Z
UID:22361-1519226100-1519243200@www.murraysbay.school.nz
SUMMARY:Student - Parent - Teacher Meetings
DESCRIPTION:
URL:https://www.murraysbay.school.nz/event/student-parent-teacher-meetings-2/
END:VEVENT
BEGIN:VEVENT
DTSTART;TZID=Pacific/Auckland:20180220T190000
DTEND;TZID=Pacific/Auckland:20180220T200000
DTSTAMP:20260423T105013
CREATED:20180205T031231Z
LAST-MODIFIED:20180205T031618Z
UID:22791-1519153200-1519156800@www.murraysbay.school.nz
SUMMARY:Coaching at Murrays Bay Primary School
DESCRIPTION:Dear Parents\, \nWe would like to extend and invitation to all members of our community to our “Coaching at Murrays Bay Primary School” evening on the 20th of February at 7pm. This evening is designed to assist all members of our community to understand the processes and philosophies of sports at Murrays Bay School. \nThe outline for this meeting as follows: \n\n\n\nTo share our expectations and guidelines for coaches.\nProcess for following through for complaints\nTeam selection\nSupport for coaches\nOne team philosophy\n\n\n\nIf you have enrolled to be a coach or are planning to coach one of our sports teams this year we would love to see you there. \nThis will also be an opportunity to ask any questions. \nPlease RSVP to ant@murraysbay.school.nz \nWarm regards\, \nKatherine Pascoe \nDeputy Principal \nAnt Hyde \nSports Co-ordinator
URL:https://www.murraysbay.school.nz/event/coaching-at-murrays-bay-primary-school/
END:VEVENT
BEGIN:VEVENT
DTSTART;TZID=Pacific/Auckland:20180220T140000
DTEND;TZID=Pacific/Auckland:20180220T180000
DTSTAMP:20260423T105014
CREATED:20171218T021636Z
LAST-MODIFIED:20171218T021636Z
UID:22359-1519135200-1519149600@www.murraysbay.school.nz
SUMMARY:Student - Parent - Teacher Meetings
DESCRIPTION:
URL:https://www.murraysbay.school.nz/event/student-parent-teacher-meetings/
END:VEVENT
BEGIN:VEVENT
DTSTART;TZID=Pacific/Auckland:20180215T190000
DTEND;TZID=Pacific/Auckland:20180215T200000
DTSTAMP:20260423T105014
CREATED:20180212T214608Z
LAST-MODIFIED:20180212T214608Z
UID:22797-1518721200-1518724800@www.murraysbay.school.nz
SUMMARY:PTA Meeting - 7pm - Staffroom
DESCRIPTION:
URL:https://www.murraysbay.school.nz/event/pta-meeting-7pm-staffroom/
END:VEVENT
BEGIN:VEVENT
DTSTART;VALUE=DATE:20180214
DTEND;VALUE=DATE:20180217
DTSTAMP:20260423T105014
CREATED:20171218T015520Z
LAST-MODIFIED:20171218T015604Z
UID:22357-1518566400-1518825599@www.murraysbay.school.nz
SUMMARY:Year 5 Camp
DESCRIPTION:
URL:https://www.murraysbay.school.nz/event/year-5-camp/
END:VEVENT
BEGIN:VEVENT
DTSTART;TZID=Pacific/Auckland:20180212T141500
DTEND;TZID=Pacific/Auckland:20180212T150000
DTSTAMP:20260423T105014
CREATED:20171218T014909Z
LAST-MODIFIED:20171218T014909Z
UID:22355-1518444900-1518447600@www.murraysbay.school.nz
SUMMARY:New Student Parent Orientation Meeting
DESCRIPTION:
URL:https://www.murraysbay.school.nz/event/new-student-parent-orientation-meeting/
END:VEVENT
BEGIN:VEVENT
DTSTART;TZID=Pacific/Auckland:20180209T091500
DTEND;TZID=Pacific/Auckland:20180209T101500
DTSTAMP:20260423T105014
CREATED:20171218T014805Z
LAST-MODIFIED:20171218T014805Z
UID:22353-1518167700-1518171300@www.murraysbay.school.nz
SUMMARY:Full School Assembly 9.15am - 10.15am
DESCRIPTION:
URL:https://www.murraysbay.school.nz/event/full-school-assembly-9-15am-10-15am/
END:VEVENT
BEGIN:VEVENT
DTSTART;VALUE=DATE:20180206
DTEND;VALUE=DATE:20180207
DTSTAMP:20260423T105014
CREATED:20171218T014548Z
LAST-MODIFIED:20171218T014719Z
UID:22351-1517875200-1517961599@www.murraysbay.school.nz
SUMMARY:Waitangi Day
DESCRIPTION:
URL:https://www.murraysbay.school.nz/event/waitangi-day-2/
END:VEVENT
BEGIN:VEVENT
DTSTART;TZID=Pacific/Auckland:20180201T103000
DTEND;TZID=Pacific/Auckland:20180201T113000
DTSTAMP:20260423T105014
CREATED:20171218T014025Z
LAST-MODIFIED:20171218T014025Z
UID:22347-1517481000-1517484600@www.murraysbay.school.nz
SUMMARY:Powhiri 10.30am
DESCRIPTION:Held in Waipapa\, this powhiri is to welcome all new and returning students to school
URL:https://www.murraysbay.school.nz/event/powhiri-10-30am/
END:VEVENT
BEGIN:VEVENT
DTSTART;TZID=Pacific/Auckland:20180201T085500
DTEND;TZID=Pacific/Auckland:20180201T150000
DTSTAMP:20260423T105014
CREATED:20171218T013526Z
LAST-MODIFIED:20171218T013721Z
UID:22345-1517475300-1517497200@www.murraysbay.school.nz
SUMMARY:2018\, Term 1 Starts today
DESCRIPTION:
URL:https://www.murraysbay.school.nz/event/2018-term-1-starts-today/
END:VEVENT
BEGIN:VEVENT
DTSTART;TZID=Pacific/Auckland:20180131T090000
DTEND;TZID=Pacific/Auckland:20180131T130000
DTSTAMP:20260423T105014
CREATED:20171218T013332Z
LAST-MODIFIED:20171218T013347Z
UID:22343-1517389200-1517403600@www.murraysbay.school.nz
SUMMARY:School office open 9am  - 1pm
DESCRIPTION:
URL:https://www.murraysbay.school.nz/event/school-office-open-9am-1pm/
END:VEVENT
BEGIN:VEVENT
DTSTART;TZID=Pacific/Auckland:20180130T090000
DTEND;TZID=Pacific/Auckland:20180130T150000
DTSTAMP:20260423T105014
CREATED:20171218T013146Z
LAST-MODIFIED:20171218T013146Z
UID:22341-1517302800-1517324400@www.murraysbay.school.nz
SUMMARY:School office open 9am - 3pm
DESCRIPTION:
URL:https://www.murraysbay.school.nz/event/school-office-open-9am-3pm-3/
END:VEVENT
END:VCALENDAR