BEGIN:VCALENDAR
VERSION:2.0
PRODID:-//Murrays Bay Primary School - ECPv6.10.1.1//NONSGML v1.0//EN
CALSCALE:GREGORIAN
METHOD:PUBLISH
X-ORIGINAL-URL:https://www.murraysbay.school.nz
X-WR-CALDESC:Events for Murrays Bay Primary School
REFRESH-INTERVAL;VALUE=DURATION:PT1H
X-Robots-Tag:noindex
X-PUBLISHED-TTL:PT1H
BEGIN:VTIMEZONE
TZID:Pacific/Auckland
BEGIN:STANDARD
TZOFFSETFROM:+1300
TZOFFSETTO:+1200
TZNAME:NZST
DTSTART:20190406T140000
END:STANDARD
BEGIN:DAYLIGHT
TZOFFSETFROM:+1200
TZOFFSETTO:+1300
TZNAME:NZDT
DTSTART:20190928T140000
END:DAYLIGHT
BEGIN:STANDARD
TZOFFSETFROM:+1300
TZOFFSETTO:+1200
TZNAME:NZST
DTSTART:20200404T140000
END:STANDARD
BEGIN:DAYLIGHT
TZOFFSETFROM:+1200
TZOFFSETTO:+1300
TZNAME:NZDT
DTSTART:20200926T140000
END:DAYLIGHT
END:VTIMEZONE
BEGIN:VEVENT
DTSTART;TZID=Pacific/Auckland:20191210T130000
DTEND;TZID=Pacific/Auckland:20191210T140000
DTSTAMP:20260423T103102
CREATED:20191110T213236Z
LAST-MODIFIED:20191110T213236Z
UID:25370-1575982800-1575986400@www.murraysbay.school.nz
SUMMARY:Road Patrol EoY Celebration
DESCRIPTION:
URL:https://www.murraysbay.school.nz/event/road-patrol-eoy-celebration/
END:VEVENT
BEGIN:VEVENT
DTSTART;TZID=Pacific/Auckland:20191210T190000
DTEND;TZID=Pacific/Auckland:20191210T200000
DTSTAMP:20260423T103102
CREATED:20181217T211640Z
LAST-MODIFIED:20181217T211640Z
UID:24175-1576004400-1576008000@www.murraysbay.school.nz
SUMMARY:BoT Meeting - Boardroom\, 7pm
DESCRIPTION:
URL:https://www.murraysbay.school.nz/event/bot-meeting-boardroom-7pm-8/
END:VEVENT
BEGIN:VEVENT
DTSTART;VALUE=DATE:20191211
DTEND;VALUE=DATE:20191212
DTSTAMP:20260423T103102
CREATED:20191118T030258Z
LAST-MODIFIED:20191118T030258Z
UID:25401-1576022400-1576108799@www.murraysbay.school.nz
SUMMARY:All School Library Books Returned
DESCRIPTION:
URL:https://www.murraysbay.school.nz/event/all-school-library-books-returned/
END:VEVENT
BEGIN:VEVENT
DTSTART;TZID=Pacific/Auckland:20191211T090000
DTEND;TZID=Pacific/Auckland:20191211T133000
DTSTAMP:20260423T103102
CREATED:20191119T014528Z
LAST-MODIFIED:20191119T014528Z
UID:25428-1576054800-1576071000@www.murraysbay.school.nz
SUMMARY:Year 2 & 3 Athletics Day
DESCRIPTION:
URL:https://www.murraysbay.school.nz/event/year-2-3-athletics-day/
END:VEVENT
BEGIN:VEVENT
DTSTART;TZID=Pacific/Auckland:20191211T130000
DTEND;TZID=Pacific/Auckland:20191211T143000
DTSTAMP:20260423T103102
CREATED:20191119T014602Z
LAST-MODIFIED:20191119T014602Z
UID:25430-1576069200-1576074600@www.murraysbay.school.nz
SUMMARY:Y4 Arts Extravaganza
DESCRIPTION:Waipapa ( School Hall)
URL:https://www.murraysbay.school.nz/event/y4-arts-extravaganza/
END:VEVENT
BEGIN:VEVENT
DTSTART;TZID=Pacific/Auckland:20191211T163000
DTEND;TZID=Pacific/Auckland:20191211T200000
DTSTAMP:20260423T103102
CREATED:20190702T015525Z
LAST-MODIFIED:20191022T001543Z
UID:24893-1576081800-1576094400@www.murraysbay.school.nz
SUMMARY:Year 6 Graduation 2019
DESCRIPTION:Year 6 Graduation and Disco \nFormal Ceremony\n6:30pm-7:30pm\nMurrays Bay Intermediate School Hall \nDisco\nSoon after the close of the formal ceremony until 9:30pm\nWaipapa (School Hall)
URL:https://www.murraysbay.school.nz/event/year-6-graduation-2019/
END:VEVENT
BEGIN:VEVENT
DTSTART;TZID=Pacific/Auckland:20191213T091500
DTEND;TZID=Pacific/Auckland:20191213T104500
DTSTAMP:20260423T103102
CREATED:20191119T021230Z
LAST-MODIFIED:20191119T021230Z
UID:25437-1576228500-1576233900@www.murraysbay.school.nz
SUMMARY:Senior Prizegiving Assembly
DESCRIPTION:Split assembly due to availability
URL:https://www.murraysbay.school.nz/event/senior-prizegiving-assembly/
END:VEVENT
BEGIN:VEVENT
DTSTART;TZID=Pacific/Auckland:20191213T113000
DTEND;TZID=Pacific/Auckland:20191213T130000
DTSTAMP:20260423T103102
CREATED:20190926T025808Z
LAST-MODIFIED:20191119T021102Z
UID:25195-1576236600-1576242000@www.murraysbay.school.nz
SUMMARY:Junior Prizegiving Assembly
DESCRIPTION:Split assembly due to availability
URL:https://www.murraysbay.school.nz/event/full-school-assembly-waipapa-6/
END:VEVENT
BEGIN:VEVENT
DTSTART;TZID=Pacific/Auckland:20191216T093000
DTEND;TZID=Pacific/Auckland:20191216T143000
DTSTAMP:20260423T103102
CREATED:20191024T214955Z
LAST-MODIFIED:20191024T214955Z
UID:25301-1576488600-1576506600@www.murraysbay.school.nz
SUMMARY:Year 5 End of Year Beach Trip
DESCRIPTION:
URL:https://www.murraysbay.school.nz/event/year-5-end-of-year-beach-trip/
END:VEVENT
BEGIN:VEVENT
DTSTART;TZID=Pacific/Auckland:20191216T150000
DTEND;TZID=Pacific/Auckland:20191216T180000
DTSTAMP:20260423T103102
CREATED:20191023T210359Z
LAST-MODIFIED:20191108T002511Z
UID:25289-1576508400-1576519200@www.murraysbay.school.nz
SUMMARY:Report Discussions
DESCRIPTION:Booking information available soon
URL:https://www.murraysbay.school.nz/event/report-discussions/
END:VEVENT
BEGIN:VEVENT
DTSTART;TZID=Pacific/Auckland:20191217T090000
DTEND;TZID=Pacific/Auckland:20191217T120000
DTSTAMP:20260423T103102
CREATED:20190702T015635Z
LAST-MODIFIED:20190702T015635Z
UID:24895-1576573200-1576584000@www.murraysbay.school.nz
SUMMARY:Year 6 Wharf Jump 2019
DESCRIPTION:
URL:https://www.murraysbay.school.nz/event/year-6-wharf-jump-2019/
END:VEVENT
BEGIN:VEVENT
DTSTART;TZID=Pacific/Auckland:20191218T083000
DTEND;TZID=Pacific/Auckland:20191218T090000
DTSTAMP:20260423T103102
CREATED:20191204T225245Z
LAST-MODIFIED:20191204T225245Z
UID:25492-1576657800-1576659600@www.murraysbay.school.nz
SUMMARY:2nd Chance Uniform Shop Open for Donations
DESCRIPTION:
URL:https://www.murraysbay.school.nz/event/2nd-chance-uniform-shop-open-for-donations/
END:VEVENT
BEGIN:VEVENT
DTSTART;VALUE=DATE:20191219
DTEND;VALUE=DATE:20191220
DTSTAMP:20260423T103102
CREATED:20190408T222803Z
LAST-MODIFIED:20190408T222803Z
UID:24566-1576713600-1576799999@www.murraysbay.school.nz
SUMMARY:Last Day Term 4 - 1pm
DESCRIPTION:
URL:https://www.murraysbay.school.nz/event/last-day-term-4-1pm/
END:VEVENT
BEGIN:VEVENT
DTSTART;TZID=Pacific/Auckland:20200128T090000
DTEND;TZID=Pacific/Auckland:20200128T150000
DTSTAMP:20260423T103102
CREATED:20191209T005435Z
LAST-MODIFIED:20191209T005435Z
UID:25504-1580202000-1580223600@www.murraysbay.school.nz
SUMMARY:School Office Open
DESCRIPTION:Where possible please make an appointment with Mrs Ilse Hindle for new enrolments \nilse@murraysbay.school.nz
URL:https://www.murraysbay.school.nz/event/school-office-open/
END:VEVENT
BEGIN:VEVENT
DTSTART;VALUE=DATE:20200129
DTEND;VALUE=DATE:20200130
DTSTAMP:20260423T103102
CREATED:20200129T015817Z
LAST-MODIFIED:20200129T015817Z
UID:25616-1580256000-1580342399@www.murraysbay.school.nz
SUMMARY:Super Cluster Tennis
DESCRIPTION:venue TBC
URL:https://www.murraysbay.school.nz/event/super-cluster-tennis/
END:VEVENT
BEGIN:VEVENT
DTSTART;TZID=Pacific/Auckland:20200129T090000
DTEND;TZID=Pacific/Auckland:20200129T123000
DTSTAMP:20260423T103102
CREATED:20191209T005635Z
LAST-MODIFIED:20191209T005635Z
UID:25506-1580288400-1580301000@www.murraysbay.school.nz
SUMMARY:School Office Open
DESCRIPTION:Where possible please make an appointment with Mrs Ilse Hindle for new enrolments \nilse@murraysbay.school.nz
URL:https://www.murraysbay.school.nz/event/school-office-open-2/
END:VEVENT
BEGIN:VEVENT
DTSTART;VALUE=DATE:20200130
DTEND;VALUE=DATE:20200211
DTSTAMP:20260423T103102
CREATED:20200129T223330Z
LAST-MODIFIED:20200129T223330Z
UID:25640-1580342400-1581379199@www.murraysbay.school.nz
SUMMARY:Flippa Ball Registrations Open
DESCRIPTION:Years 4-6 Flippa Ball Registration Term 1\, 2020 \nYears 2 -3 Newbies to Flippa Ball Registration – Term 1\, 2020 \n  \nRegistrations Close Monday\, 10 February – 3:00pm \n 
URL:https://www.murraysbay.school.nz/event/flippa-ball-registrations-open/
END:VEVENT
BEGIN:VEVENT
DTSTART;TZID=Pacific/Auckland:20200131T090000
DTEND;TZID=Pacific/Auckland:20200131T150000
DTSTAMP:20260423T103102
CREATED:20191209T005907Z
LAST-MODIFIED:20191209T005907Z
UID:25508-1580461200-1580482800@www.murraysbay.school.nz
SUMMARY:School Office Open
DESCRIPTION:Where possible please make an appointment with Mrs Ilse Hindle for new enrolments \nilse@murraysbay.school.nz
URL:https://www.murraysbay.school.nz/event/school-office-open-3/
END:VEVENT
BEGIN:VEVENT
DTSTART;TZID=Pacific/Auckland:20200131T100000
DTEND;TZID=Pacific/Auckland:20200131T120000
DTSTAMP:20260423T103102
CREATED:20191205T000342Z
LAST-MODIFIED:20191209T194615Z
UID:25495-1580464800-1580472000@www.murraysbay.school.nz
SUMMARY:2nd Chance Uniform Open
DESCRIPTION:10:00am-12:00pm \nLocated in the PTA Room – by the school pool \nCash Sales Only
URL:https://www.murraysbay.school.nz/event/2nd-chance-uniform-open/
END:VEVENT
BEGIN:VEVENT
DTSTART;VALUE=DATE:20200203
DTEND;VALUE=DATE:20200204
DTSTAMP:20260423T103102
CREATED:20191218T214244Z
LAST-MODIFIED:20191218T214244Z
UID:25531-1580688000-1580774399@www.murraysbay.school.nz
SUMMARY:Term 1\, 2020 Starts - 8:55am
DESCRIPTION:
URL:https://www.murraysbay.school.nz/event/term-1-2020-starts-855am/
END:VEVENT
BEGIN:VEVENT
DTSTART;TZID=Pacific/Auckland:20200203T091500
DTEND;TZID=Pacific/Auckland:20200203T094500
DTSTAMP:20260423T103102
CREATED:20200120T040940Z
LAST-MODIFIED:20200120T040940Z
UID:25588-1580721300-1580723100@www.murraysbay.school.nz
SUMMARY:Pōwhiri - 9:15am\, Waipapa
DESCRIPTION:Pōwhiri for students and staff starting at Murrays Bay Primary School.
URL:https://www.murraysbay.school.nz/event/powhiri-915am-waipapa/
END:VEVENT
BEGIN:VEVENT
DTSTART;VALUE=DATE:20200204
DTEND;VALUE=DATE:20200212
DTSTAMP:20260423T103102
CREATED:20200204T000542Z
LAST-MODIFIED:20200204T020211Z
UID:25656-1580774400-1581465599@www.murraysbay.school.nz
SUMMARY:Mini Ball Registrations Open - Term 1 & 2
DESCRIPTION:Y3/4 Mini Ball Junior Breakers \nhttps://forms.gle/cHtSCPnCFCmvEj9o6 \n  \nY5/6 Mini Ball \nhttps://forms.gle/3yDZVB7DzQFK1wWH7
URL:https://www.murraysbay.school.nz/event/mini-ball-registrations-open-term-1-2/
END:VEVENT
BEGIN:VEVENT
DTSTART;VALUE=DATE:20200206
DTEND;VALUE=DATE:20200207
DTSTAMP:20260423T103102
CREATED:20200120T040712Z
LAST-MODIFIED:20200120T040712Z
UID:25586-1580947200-1581033599@www.murraysbay.school.nz
SUMMARY:Waitangi Day - School Closed
DESCRIPTION:
URL:https://www.murraysbay.school.nz/event/waitangi-day-school-closed/
END:VEVENT
BEGIN:VEVENT
DTSTART;TZID=Pacific/Auckland:20200207T091500
DTEND;TZID=Pacific/Auckland:20200207T101500
DTSTAMP:20260423T103102
CREATED:20200207T015632Z
LAST-MODIFIED:20200207T015632Z
UID:25673-1581066900-1581070500@www.murraysbay.school.nz
SUMMARY:Full School Assembly - Waipapa\, 9:15am
DESCRIPTION:
URL:https://www.murraysbay.school.nz/event/full-school-assembly-waipapa-915am-5/
END:VEVENT
BEGIN:VEVENT
DTSTART;TZID=Pacific/Auckland:20200207T130000
DTEND;TZID=Pacific/Auckland:20200207T140000
DTSTAMP:20260423T103102
CREATED:20200129T020711Z
LAST-MODIFIED:20200129T020711Z
UID:25634-1581080400-1581084000@www.murraysbay.school.nz
SUMMARY:Y5 Basketball Trials- Waipapa\, 1:00pm
DESCRIPTION:
URL:https://www.murraysbay.school.nz/event/y5-basketball-trials-waipapa-100pm/
END:VEVENT
BEGIN:VEVENT
DTSTART;TZID=Pacific/Auckland:20200208T140000
DTEND;TZID=Pacific/Auckland:20200208T150000
DTSTAMP:20260423T103102
CREATED:20200120T034631Z
LAST-MODIFIED:20200120T034631Z
UID:25579-1581170400-1581174000@www.murraysbay.school.nz
SUMMARY:Flipper Ball Trials (Years 5 & 6 only) - AUT Millennium
DESCRIPTION:Years 5 & 6 Students only \n2:00pm-3:00pm \nAUT Millennium \nLanes 1 & 2
URL:https://www.murraysbay.school.nz/event/flipper-ball-trials-years-5-6-only-aut-millennium/
END:VEVENT
BEGIN:VEVENT
DTSTART;VALUE=DATE:20200210
DTEND;VALUE=DATE:20200218
DTSTAMP:20260423T103102
CREATED:20200210T005948Z
LAST-MODIFIED:20200210T005948Z
UID:25695-1581292800-1581983999@www.murraysbay.school.nz
SUMMARY:Y4-6 Swimming Sports Entry Open
DESCRIPTION:Entries close 3pm Tuesday 18th of February\, late entries will not be considered.
URL:https://www.murraysbay.school.nz/event/y4-6-swimming-sports-entry-open/
END:VEVENT
BEGIN:VEVENT
DTSTART;TZID=Pacific/Auckland:20200212T130000
DTEND;TZID=Pacific/Auckland:20200212T140000
DTSTAMP:20260423T103102
CREATED:20200129T020750Z
LAST-MODIFIED:20200129T020750Z
UID:25636-1581512400-1581516000@www.murraysbay.school.nz
SUMMARY:Y6 Basketball Trials - Waipapa\, 1:00pm
DESCRIPTION:
URL:https://www.murraysbay.school.nz/event/y6-basketball-trials-waipapa-100pm/
END:VEVENT
BEGIN:VEVENT
DTSTART;TZID=Pacific/Auckland:20200212T190000
DTEND;TZID=Pacific/Auckland:20200212T200000
DTSTAMP:20260423T103102
CREATED:20191218T214334Z
LAST-MODIFIED:20200205T024701Z
UID:25533-1581534000-1581537600@www.murraysbay.school.nz
SUMMARY:PTA Meeting - Staffroom\, 7:00pm
DESCRIPTION:
URL:https://www.murraysbay.school.nz/event/pta-meeting-staffroom-700pm-8/
END:VEVENT
BEGIN:VEVENT
DTSTART;TZID=Pacific/Auckland:20200213T090000
DTEND;TZID=Pacific/Auckland:20200213T143000
DTSTAMP:20260423T103102
CREATED:20190919T220748Z
LAST-MODIFIED:20190919T220748Z
UID:25158-1581584400-1581604200@www.murraysbay.school.nz
SUMMARY:Year 5 Water Safety
DESCRIPTION:Millennium Institute
URL:https://www.murraysbay.school.nz/event/year-5-water-safety/
END:VEVENT
END:VCALENDAR