BEGIN:VCALENDAR
VERSION:2.0
PRODID:-//Murrays Bay Primary School - ECPv6.10.1.1//NONSGML v1.0//EN
CALSCALE:GREGORIAN
METHOD:PUBLISH
X-ORIGINAL-URL:https://www.murraysbay.school.nz
X-WR-CALDESC:Events for Murrays Bay Primary School
REFRESH-INTERVAL;VALUE=DURATION:PT1H
X-Robots-Tag:noindex
X-PUBLISHED-TTL:PT1H
BEGIN:VTIMEZONE
TZID:Pacific/Auckland
BEGIN:STANDARD
TZOFFSETFROM:+1300
TZOFFSETTO:+1200
TZNAME:NZST
DTSTART:20190406T140000
END:STANDARD
BEGIN:DAYLIGHT
TZOFFSETFROM:+1200
TZOFFSETTO:+1300
TZNAME:NZDT
DTSTART:20190928T140000
END:DAYLIGHT
END:VTIMEZONE
BEGIN:VEVENT
DTSTART;TZID=Pacific/Auckland:20191024T090000
DTEND;TZID=Pacific/Auckland:20191024T140000
DTSTAMP:20260420T180007
CREATED:20191008T022209Z
LAST-MODIFIED:20191008T022209Z
UID:25241-1571907600-1571925600@www.murraysbay.school.nz
SUMMARY:Y2 Beach Trip
DESCRIPTION:
URL:https://www.murraysbay.school.nz/event/y2-beach-trip/
END:VEVENT
BEGIN:VEVENT
DTSTART;TZID=Pacific/Auckland:20191029T083000
DTEND;TZID=Pacific/Auckland:20191029T090000
DTSTAMP:20260420T180007
CREATED:20190909T214918Z
LAST-MODIFIED:20190909T220240Z
UID:25147-1572337800-1572339600@www.murraysbay.school.nz
SUMMARY:Walking School Bus - Juice & Muffin Morning
DESCRIPTION:
URL:https://www.murraysbay.school.nz/event/walking-school-bus-juice-muffin-morning/
END:VEVENT
BEGIN:VEVENT
DTSTART;VALUE=DATE:20191030
DTEND;VALUE=DATE:20191116
DTSTAMP:20260420T180007
CREATED:20180823T010059Z
LAST-MODIFIED:20181217T211829Z
UID:23469-1572393600-1573862399@www.murraysbay.school.nz
SUMMARY:Life Education (Y1-Y5)
DESCRIPTION:
URL:https://www.murraysbay.school.nz/event/life-education-y1-y5/
END:VEVENT
BEGIN:VEVENT
DTSTART;TZID=Pacific/Auckland:20191030T141500
DTEND;TZID=Pacific/Auckland:20191030T150000
DTSTAMP:20260420T180007
CREATED:20190825T211550Z
LAST-MODIFIED:20190825T211550Z
UID:25071-1572444900-1572447600@www.murraysbay.school.nz
SUMMARY:MBIS Band Programme presentation to Year 6 students
DESCRIPTION:
URL:https://www.murraysbay.school.nz/event/mbis-band-programme-presentation-to-year-6-students/
END:VEVENT
BEGIN:VEVENT
DTSTART;TZID=Pacific/Auckland:20191031T114500
DTEND;TZID=Pacific/Auckland:20191031T130000
DTSTAMP:20260420T180007
CREATED:20191014T194558Z
LAST-MODIFIED:20191014T194558Z
UID:25259-1572522300-1572526800@www.murraysbay.school.nz
SUMMARY:Five Dollar Fair - Year 6
DESCRIPTION:
URL:https://www.murraysbay.school.nz/event/five-dollar-fair-year-6/
END:VEVENT
BEGIN:VEVENT
DTSTART;TZID=Pacific/Auckland:20191031T211500
DTEND;TZID=Pacific/Auckland:20191101T101500
DTSTAMP:20260420T180007
CREATED:20190926T024152Z
LAST-MODIFIED:20190926T024152Z
UID:25189-1572556500-1572603300@www.murraysbay.school.nz
SUMMARY:Full School Assembly - Waipapa
DESCRIPTION:
URL:https://www.murraysbay.school.nz/event/full-school-assembly-waipapa-3/
END:VEVENT
BEGIN:VEVENT
DTSTART;TZID=Pacific/Auckland:20191101T114500
DTEND;TZID=Pacific/Auckland:20191101T130000
DTSTAMP:20260420T180007
CREATED:20191024T202909Z
LAST-MODIFIED:20191024T202909Z
UID:25298-1572608700-1572613200@www.murraysbay.school.nz
SUMMARY:Five Dollar Fair - Year 5
DESCRIPTION:Waipapa\n(School hall)
URL:https://www.murraysbay.school.nz/event/five-dollar-fair-year-5/
END:VEVENT
BEGIN:VEVENT
DTSTART;TZID=Pacific/Auckland:20191105T090000
DTEND;TZID=Pacific/Auckland:20191105T150000
DTSTAMP:20260420T180007
CREATED:20181203T223058Z
LAST-MODIFIED:20191029T231237Z
UID:24020-1572944400-1572966000@www.murraysbay.school.nz
SUMMARY:Super Cluster Touch Rugby Tournament
DESCRIPTION:Pinehurst School
URL:https://www.murraysbay.school.nz/event/super-cluster-touch-rugby-tournament/
END:VEVENT
BEGIN:VEVENT
DTSTART;TZID=Pacific/Auckland:20191105T190000
DTEND;TZID=Pacific/Auckland:20191105T200000
DTSTAMP:20260420T180007
CREATED:20190807T222801Z
LAST-MODIFIED:20190807T223140Z
UID:24991-1572980400-1572984000@www.murraysbay.school.nz
SUMMARY:PTA Meeting - Staffroom\, 7:00pm
DESCRIPTION:
URL:https://www.murraysbay.school.nz/event/pta-meeting-staffroom-700pm-7/
END:VEVENT
BEGIN:VEVENT
DTSTART;TZID=Pacific/Auckland:20191106T090000
DTEND;TZID=Pacific/Auckland:20191106T150000
DTSTAMP:20260420T180007
CREATED:20190805T222026Z
LAST-MODIFIED:20190805T222026Z
UID:24982-1573030800-1573052400@www.murraysbay.school.nz
SUMMARY:Y4-6 Athletics Day
DESCRIPTION:Millennium Institute
URL:https://www.murraysbay.school.nz/event/y4-6-athletics-day/
END:VEVENT
BEGIN:VEVENT
DTSTART;TZID=Pacific/Auckland:20191107T140000
DTEND;TZID=Pacific/Auckland:20191107T150000
DTSTAMP:20260420T180007
CREATED:20181213T014539Z
LAST-MODIFIED:20181213T014539Z
UID:24154-1573135200-1573138800@www.murraysbay.school.nz
SUMMARY:PTA Meeting - Staffroom 2:00pm
DESCRIPTION:
URL:https://www.murraysbay.school.nz/event/pta-meeting-staffroom-200pm-5/
END:VEVENT
BEGIN:VEVENT
DTSTART;TZID=Pacific/Auckland:20191108T090000
DTEND;TZID=Pacific/Auckland:20191108T150000
DTSTAMP:20260420T180007
CREATED:20181203T223250Z
LAST-MODIFIED:20181203T223250Z
UID:24022-1573203600-1573225200@www.murraysbay.school.nz
SUMMARY:Super Cluster Touch Rugby Tournament - Save Date
DESCRIPTION:Pinhurst School
URL:https://www.murraysbay.school.nz/event/super-cluster-touch-rugby-tournament-save-date/
END:VEVENT
BEGIN:VEVENT
DTSTART;TZID=Pacific/Auckland:20191111T090000
DTEND;TZID=Pacific/Auckland:20191111T150000
DTSTAMP:20260420T180007
CREATED:20191007T234450Z
LAST-MODIFIED:20191007T234450Z
UID:25226-1573462800-1573484400@www.murraysbay.school.nz
SUMMARY:Waterwise - Kereru MW
DESCRIPTION:
URL:https://www.murraysbay.school.nz/event/waterwise-kereru-mw-2/
END:VEVENT
BEGIN:VEVENT
DTSTART;TZID=Pacific/Auckland:20191111T091500
DTEND;TZID=Pacific/Auckland:20191111T144500
DTSTAMP:20260420T180007
CREATED:20191031T215317Z
LAST-MODIFIED:20191031T215459Z
UID:25323-1573463700-1573483500@www.murraysbay.school.nz
SUMMARY:Year 3 Outdoor Education Day
DESCRIPTION:
URL:https://www.murraysbay.school.nz/event/year-3-outdoor-education-day/
END:VEVENT
BEGIN:VEVENT
DTSTART;TZID=Pacific/Auckland:20191112T090000
DTEND;TZID=Pacific/Auckland:20191112T150000
DTSTAMP:20260420T180007
CREATED:20191007T234601Z
LAST-MODIFIED:20191014T015355Z
UID:25228-1573549200-1573570800@www.murraysbay.school.nz
SUMMARY:Waterwise - Kereru MM
DESCRIPTION:
URL:https://www.murraysbay.school.nz/event/waterwise-kereru-ao-2/
END:VEVENT
BEGIN:VEVENT
DTSTART;TZID=Pacific/Auckland:20191113T090000
DTEND;TZID=Pacific/Auckland:20191113T150000
DTSTAMP:20260420T180007
CREATED:20191007T234626Z
LAST-MODIFIED:20191007T234626Z
UID:25230-1573635600-1573657200@www.murraysbay.school.nz
SUMMARY:Waterwise - Kereru LM
DESCRIPTION:
URL:https://www.murraysbay.school.nz/event/waterwise-kereru-lm-2/
END:VEVENT
BEGIN:VEVENT
DTSTART;TZID=Pacific/Auckland:20191114T090000
DTEND;TZID=Pacific/Auckland:20191114T150000
DTSTAMP:20260420T180007
CREATED:20191007T234653Z
LAST-MODIFIED:20191014T015409Z
UID:25232-1573722000-1573743600@www.murraysbay.school.nz
SUMMARY:Waterwise - Kereru AO
DESCRIPTION:
URL:https://www.murraysbay.school.nz/event/waterwise-kereru-mm-2/
END:VEVENT
BEGIN:VEVENT
DTSTART;TZID=Pacific/Auckland:20191115T090000
DTEND;TZID=Pacific/Auckland:20191115T150000
DTSTAMP:20260420T180007
CREATED:20191007T234736Z
LAST-MODIFIED:20191007T234736Z
UID:25234-1573808400-1573830000@www.murraysbay.school.nz
SUMMARY:Waterwise - Kereru KK
DESCRIPTION:
URL:https://www.murraysbay.school.nz/event/waterwise-kereru-kk-2/
END:VEVENT
BEGIN:VEVENT
DTSTART;TZID=Pacific/Auckland:20191115T091500
DTEND;TZID=Pacific/Auckland:20191115T101500
DTSTAMP:20260420T180007
CREATED:20190926T024448Z
LAST-MODIFIED:20190926T024448Z
UID:25191-1573809300-1573812900@www.murraysbay.school.nz
SUMMARY:Full School Assembly - Waipapa
DESCRIPTION:
URL:https://www.murraysbay.school.nz/event/full-school-assembly-waipapa-4/
END:VEVENT
BEGIN:VEVENT
DTSTART;TZID=Pacific/Auckland:20191118T090000
DTEND;TZID=Pacific/Auckland:20191118T150000
DTSTAMP:20260420T180007
CREATED:20191007T234159Z
LAST-MODIFIED:20191007T234159Z
UID:25218-1574067600-1574089200@www.murraysbay.school.nz
SUMMARY:Waterwise - Karearea KH
DESCRIPTION:
URL:https://www.murraysbay.school.nz/event/waterwise-karearea-kh-2/
END:VEVENT
BEGIN:VEVENT
DTSTART;TZID=Pacific/Auckland:20191119T090000
DTEND;TZID=Pacific/Auckland:20191119T130000
DTSTAMP:20260420T180007
CREATED:20191119T003318Z
LAST-MODIFIED:20191119T003318Z
UID:25416-1574154000-1574168400@www.murraysbay.school.nz
SUMMARY:Senior Athletics Finals
DESCRIPTION:AUT Millenium Stadium
URL:https://www.murraysbay.school.nz/event/senior-athletics-finals/
END:VEVENT
BEGIN:VEVENT
DTSTART;TZID=Pacific/Auckland:20191119T090000
DTEND;TZID=Pacific/Auckland:20191119T150000
DTSTAMP:20260420T180007
CREATED:20191007T234308Z
LAST-MODIFIED:20191007T234308Z
UID:25220-1574154000-1574175600@www.murraysbay.school.nz
SUMMARY:Waterwise - Karearea ML
DESCRIPTION:
URL:https://www.murraysbay.school.nz/event/waterwise-karearea-ml-2/
END:VEVENT
BEGIN:VEVENT
DTSTART;TZID=Pacific/Auckland:20191119T180000
DTEND;TZID=Pacific/Auckland:20191119T210000
DTSTAMP:20260420T180007
CREATED:20191118T215707Z
LAST-MODIFIED:20191118T215707Z
UID:25406-1574186400-1574197200@www.murraysbay.school.nz
SUMMARY:Kids for Kids Concert - Junior Choir
DESCRIPTION:Bruce Mason Centre\, Takapuna
URL:https://www.murraysbay.school.nz/event/kids-for-kids-concert-junior-choir/
END:VEVENT
BEGIN:VEVENT
DTSTART;TZID=Pacific/Auckland:20191119T190000
DTEND;TZID=Pacific/Auckland:20191119T200000
DTSTAMP:20260420T180007
CREATED:20181217T211558Z
LAST-MODIFIED:20190813T214502Z
UID:24173-1574190000-1574193600@www.murraysbay.school.nz
SUMMARY:BoT Meeting - Boardroom\, 7pm
DESCRIPTION:
URL:https://www.murraysbay.school.nz/event/bot-meeting-boardroom-7pm-7/
END:VEVENT
BEGIN:VEVENT
DTSTART;TZID=Pacific/Auckland:20191120T090000
DTEND;TZID=Pacific/Auckland:20191120T150000
DTSTAMP:20260420T180007
CREATED:20191007T234336Z
LAST-MODIFIED:20191007T234336Z
UID:25222-1574240400-1574262000@www.murraysbay.school.nz
SUMMARY:Waterwise - Karearea AF/TC
DESCRIPTION:
URL:https://www.murraysbay.school.nz/event/waterwise-karearea-af-tc/
END:VEVENT
BEGIN:VEVENT
DTSTART;TZID=Pacific/Auckland:20191121T090000
DTEND;TZID=Pacific/Auckland:20191121T150000
DTSTAMP:20260420T180007
CREATED:20191007T234422Z
LAST-MODIFIED:20191007T234422Z
UID:25224-1574326800-1574348400@www.murraysbay.school.nz
SUMMARY:Waterwise - Karearea LJ
DESCRIPTION:
URL:https://www.murraysbay.school.nz/event/waterwise-karearea-lj-2/
END:VEVENT
BEGIN:VEVENT
DTSTART;VALUE=DATE:20191122
DTEND;VALUE=DATE:20191123
DTSTAMP:20260420T180007
CREATED:20190808T022829Z
LAST-MODIFIED:20190808T022829Z
UID:24996-1574380800-1574467199@www.murraysbay.school.nz
SUMMARY:Onepoto Cultural Festival
DESCRIPTION:
URL:https://www.murraysbay.school.nz/event/onepoto-cultural-festival/
END:VEVENT
BEGIN:VEVENT
DTSTART;VALUE=DATE:20191122
DTEND;VALUE=DATE:20191123
DTSTAMP:20260420T180007
CREATED:20191118T223230Z
LAST-MODIFIED:20191118T223230Z
UID:25413-1574380800-1574467199@www.murraysbay.school.nz
SUMMARY:Vision and Hearing visiting MBPS
DESCRIPTION:
URL:https://www.murraysbay.school.nz/event/vision-and-hearing-visiting-mbps/
END:VEVENT
BEGIN:VEVENT
DTSTART;TZID=Pacific/Auckland:20191122T080000
DTEND;TZID=Pacific/Auckland:20191122T170000
DTSTAMP:20260420T180007
CREATED:20190516T033931Z
LAST-MODIFIED:20191118T214452Z
UID:24703-1574409600-1574442000@www.murraysbay.school.nz
SUMMARY:Student Government Fundraiser - Westpac Chopper Appeal
DESCRIPTION:
URL:https://www.murraysbay.school.nz/event/student-government-fundraiser-westpac-chopper-appeal/
END:VEVENT
BEGIN:VEVENT
DTSTART;TZID=Pacific/Auckland:20191122T090000
DTEND;TZID=Pacific/Auckland:20191122T143000
DTSTAMP:20260420T180007
CREATED:20191014T020121Z
LAST-MODIFIED:20191014T020121Z
UID:25257-1574413200-1574433000@www.murraysbay.school.nz
SUMMARY:Waterwise - Y5 & Y6 Save Date
DESCRIPTION:
URL:https://www.murraysbay.school.nz/event/waterwise-y5-y6-save-date/
END:VEVENT
END:VCALENDAR