BEGIN:VCALENDAR
VERSION:2.0
PRODID:-//Murrays Bay Primary School - ECPv6.10.1.1//NONSGML v1.0//EN
CALSCALE:GREGORIAN
METHOD:PUBLISH
X-WR-CALNAME:Murrays Bay Primary School
X-ORIGINAL-URL:https://www.murraysbay.school.nz
X-WR-CALDESC:Events for Murrays Bay Primary School
REFRESH-INTERVAL;VALUE=DURATION:PT1H
X-Robots-Tag:noindex
X-PUBLISHED-TTL:PT1H
BEGIN:VTIMEZONE
TZID:Pacific/Auckland
BEGIN:STANDARD
TZOFFSETFROM:+1300
TZOFFSETTO:+1200
TZNAME:NZST
DTSTART:20180331T140000
END:STANDARD
BEGIN:DAYLIGHT
TZOFFSETFROM:+1200
TZOFFSETTO:+1300
TZNAME:NZDT
DTSTART:20180929T140000
END:DAYLIGHT
END:VTIMEZONE
BEGIN:VEVENT
DTSTART;VALUE=DATE:20181022
DTEND;VALUE=DATE:20181023
DTSTAMP:20260420T160932
CREATED:20181017T042554Z
LAST-MODIFIED:20181017T042554Z
UID:23720-1540166400-1540252799@www.murraysbay.school.nz
SUMMARY:Labour Day - SCHOOL CLOSED
DESCRIPTION:
URL:https://www.murraysbay.school.nz/event/labour-day-school-closed/
END:VEVENT
BEGIN:VEVENT
DTSTART;TZID=Pacific/Auckland:20181018T190000
DTEND;TZID=Pacific/Auckland:20181018T203000
DTSTAMP:20260420T160932
CREATED:20180823T204738Z
LAST-MODIFIED:20181017T042215Z
UID:23472-1539889200-1539894600@www.murraysbay.school.nz
SUMMARY:NetSafe Evening - Waipapa 7pm POSTPONED
DESCRIPTION:Evening Postponed \nNew Date:\nThursday 21 February 2019
URL:https://www.murraysbay.school.nz/event/netsafe-evening-waipapa-7pm/
END:VEVENT
BEGIN:VEVENT
DTSTART;TZID=Pacific/Auckland:20181017T090000
DTEND;TZID=Pacific/Auckland:20181017T103000
DTSTAMP:20260420T160932
CREATED:20180823T222142Z
LAST-MODIFIED:20180823T222142Z
UID:23474-1539766800-1539772200@www.murraysbay.school.nz
SUMMARY:Y6 Introduction to MBIS Band Programme\, 9am
DESCRIPTION:
URL:https://www.murraysbay.school.nz/event/y6-introduction-to-mbis-band-programme-9am/
END:VEVENT
BEGIN:VEVENT
DTSTART;TZID=Pacific/Auckland:20181017T070000
DTEND;TZID=Pacific/Auckland:20181017T200000
DTSTAMP:20260420T160932
CREATED:20180910T213754Z
LAST-MODIFIED:20180910T213754Z
UID:23566-1539759600-1539806400@www.murraysbay.school.nz
SUMMARY:PTA Meeting  - Boardroom 7pm
DESCRIPTION:
URL:https://www.murraysbay.school.nz/event/pta-meeting-boardroom-7pm/
END:VEVENT
BEGIN:VEVENT
DTSTART;TZID=Pacific/Auckland:20180926T140000
DTEND;TZID=Pacific/Auckland:20180926T150000
DTSTAMP:20260420T160932
CREATED:20180830T001009Z
LAST-MODIFIED:20180830T001009Z
UID:23488-1537970400-1537974000@www.murraysbay.school.nz
SUMMARY:PTA Meeting - Staffroom\, 2pm
DESCRIPTION:
URL:https://www.murraysbay.school.nz/event/pta-meeting-staffroom-2pm/
LOCATION:Staffroom
END:VEVENT
BEGIN:VEVENT
DTSTART;TZID=Pacific/Auckland:20180925T190000
DTEND;TZID=Pacific/Auckland:20180925T200000
DTSTAMP:20260420T160932
CREATED:20180130T012804Z
LAST-MODIFIED:20180130T012804Z
UID:22741-1537902000-1537905600@www.murraysbay.school.nz
SUMMARY:BOT Meeting
DESCRIPTION:7 – 8pm \nSchool Boardroom
URL:https://www.murraysbay.school.nz/event/bot-meeting-4/
END:VEVENT
BEGIN:VEVENT
DTSTART;TZID=Pacific/Auckland:20180921T130000
DTEND;TZID=Pacific/Auckland:20180921T133000
DTSTAMP:20260420T160932
CREATED:20180724T233033Z
LAST-MODIFIED:20180724T233033Z
UID:23382-1537534800-1537536600@www.murraysbay.school.nz
SUMMARY:PTA - Sausage Sizzle
DESCRIPTION:
URL:https://www.murraysbay.school.nz/event/pta-sausage-sizzle/
END:VEVENT
BEGIN:VEVENT
DTSTART;TZID=Pacific/Auckland:20180920T190000
DTEND;TZID=Pacific/Auckland:20180920T203000
DTSTAMP:20260420T160932
CREATED:20180724T233834Z
LAST-MODIFIED:20180724T233834Z
UID:23384-1537470000-1537475400@www.murraysbay.school.nz
SUMMARY:Seussical - Evening Show
DESCRIPTION:
URL:https://www.murraysbay.school.nz/event/seussical-evening-show-2/
END:VEVENT
BEGIN:VEVENT
DTSTART;TZID=Pacific/Auckland:20180920T120000
DTEND;TZID=Pacific/Auckland:20180920T133000
DTSTAMP:20260420T160932
CREATED:20180724T232828Z
LAST-MODIFIED:20180724T232828Z
UID:23380-1537444800-1537450200@www.murraysbay.school.nz
SUMMARY:Seussical - Matinee
DESCRIPTION:
URL:https://www.murraysbay.school.nz/event/seussical-matinee/
END:VEVENT
BEGIN:VEVENT
DTSTART;TZID=Pacific/Auckland:20180919T190000
DTEND;TZID=Pacific/Auckland:20180919T203000
DTSTAMP:20260420T160932
CREATED:20180724T232713Z
LAST-MODIFIED:20180724T232713Z
UID:23378-1537383600-1537389000@www.murraysbay.school.nz
SUMMARY:Seussical - Evening Show
DESCRIPTION:
URL:https://www.murraysbay.school.nz/event/seussical-evening-show/
END:VEVENT
BEGIN:VEVENT
DTSTART;TZID=Pacific/Auckland:20180912T083000
DTEND;TZID=Pacific/Auckland:20180912T143000
DTSTAMP:20260420T160932
CREATED:20180126T014233Z
LAST-MODIFIED:20180126T014233Z
UID:22460-1536741000-1536762600@www.murraysbay.school.nz
SUMMARY:Mid Bays Cross Country - Save Day
DESCRIPTION:
URL:https://www.murraysbay.school.nz/event/mid-bays-cross-country-save-day-3/
END:VEVENT
BEGIN:VEVENT
DTSTART;TZID=Pacific/Auckland:20180911T083000
DTEND;TZID=Pacific/Auckland:20180911T143000
DTSTAMP:20260420T160932
CREATED:20180126T014134Z
LAST-MODIFIED:20180126T014134Z
UID:22458-1536654600-1536676200@www.murraysbay.school.nz
SUMMARY:Mid Bays Cross Country
DESCRIPTION:
URL:https://www.murraysbay.school.nz/event/mid-bays-cross-country-3/
END:VEVENT
BEGIN:VEVENT
DTSTART;TZID=Pacific/Auckland:20180906T090000
DTEND;TZID=Pacific/Auckland:20180906T133000
DTSTAMP:20260420T160932
CREATED:20180808T033228Z
LAST-MODIFIED:20180808T033228Z
UID:23430-1536224400-1536240600@www.murraysbay.school.nz
SUMMARY:Save Date - Real Learning Wetlands Trip\, Long Bay
DESCRIPTION:
URL:https://www.murraysbay.school.nz/event/save-date-real-learning-wetlands-trip-long-bay/
END:VEVENT
BEGIN:VEVENT
DTSTART;TZID=Pacific/Auckland:20180904T090000
DTEND;TZID=Pacific/Auckland:20180904T140000
DTSTAMP:20260420T160932
CREATED:20180726T231517Z
LAST-MODIFIED:20180726T231517Z
UID:23406-1536051600-1536069600@www.murraysbay.school.nz
SUMMARY:Save Date - School Cross Country
DESCRIPTION:
URL:https://www.murraysbay.school.nz/event/save-date-school-cross-country/
END:VEVENT
BEGIN:VEVENT
DTSTART;TZID=Pacific/Auckland:20180831T090000
DTEND;TZID=Pacific/Auckland:20180831T110000
DTSTAMP:20260420T160932
CREATED:20180720T004734Z
LAST-MODIFIED:20180720T004734Z
UID:23344-1535706000-1535713200@www.murraysbay.school.nz
SUMMARY:Full School Assembly
DESCRIPTION:
URL:https://www.murraysbay.school.nz/event/full-school-assembly-7/
END:VEVENT
BEGIN:VEVENT
DTSTART;TZID=Pacific/Auckland:20180831T080000
DTEND;TZID=Pacific/Auckland:20180831T170000
DTSTAMP:20260420T160932
CREATED:20180730T212204Z
LAST-MODIFIED:20180730T212204Z
UID:23412-1535702400-1535734800@www.murraysbay.school.nz
SUMMARY:Daffodil Day
DESCRIPTION:
URL:https://www.murraysbay.school.nz/event/daffodil-day/
END:VEVENT
BEGIN:VEVENT
DTSTART;TZID=Pacific/Auckland:20180830T090000
DTEND;TZID=Pacific/Auckland:20180830T140000
DTSTAMP:20260420T160932
CREATED:20180726T231431Z
LAST-MODIFIED:20180726T231431Z
UID:23404-1535619600-1535637600@www.murraysbay.school.nz
SUMMARY:School Cross Country
DESCRIPTION:
URL:https://www.murraysbay.school.nz/event/school-cross-country-2/
END:VEVENT
BEGIN:VEVENT
DTSTART;TZID=Pacific/Auckland:20180829T120000
DTEND;TZID=Pacific/Auckland:20180829T130000
DTSTAMP:20260420T160932
CREATED:20180724T023824Z
LAST-MODIFIED:20180724T023824Z
UID:23371-1535544000-1535547600@www.murraysbay.school.nz
SUMMARY:ESOL Lunch
DESCRIPTION:
URL:https://www.murraysbay.school.nz/event/esol-lunch/
END:VEVENT
BEGIN:VEVENT
DTSTART;TZID=Pacific/Auckland:20180823T190000
DTEND;TZID=Pacific/Auckland:20180823T203000
DTSTAMP:20260420T160932
CREATED:20180726T224340Z
LAST-MODIFIED:20180726T230933Z
UID:23395-1535050800-1535056200@www.murraysbay.school.nz
SUMMARY:PTA - Meeting 7pm in Boardroom
DESCRIPTION:
URL:https://www.murraysbay.school.nz/event/pta-meeting/
END:VEVENT
BEGIN:VEVENT
DTSTART;TZID=Pacific/Auckland:20180823T090000
DTEND;TZID=Pacific/Auckland:20180823T133000
DTSTAMP:20260420T160932
CREATED:20180808T033144Z
LAST-MODIFIED:20180808T033144Z
UID:23428-1535014800-1535031000@www.murraysbay.school.nz
SUMMARY:Real Learning Wetlands Trip - Long Bay
DESCRIPTION:
URL:https://www.murraysbay.school.nz/event/real-learning-wetlands-trip-long-bay/
END:VEVENT
BEGIN:VEVENT
DTSTART;TZID=Pacific/Auckland:20180817T090000
DTEND;TZID=Pacific/Auckland:20180817T120000
DTSTAMP:20260420T160932
CREATED:20180726T223508Z
LAST-MODIFIED:20180807T204009Z
UID:23393-1534496400-1534507200@www.murraysbay.school.nz
SUMMARY:Year 6 - Visit to MBIS
DESCRIPTION:
URL:https://www.murraysbay.school.nz/event/year-6-visit-to-mbis/
END:VEVENT
BEGIN:VEVENT
DTSTART;TZID=Pacific/Auckland:20180817T090000
DTEND;TZID=Pacific/Auckland:20180817T100000
DTSTAMP:20260420T160932
CREATED:20180720T004651Z
LAST-MODIFIED:20180720T004651Z
UID:23342-1534496400-1534500000@www.murraysbay.school.nz
SUMMARY:Full School Assembly
DESCRIPTION:
URL:https://www.murraysbay.school.nz/event/full-school-assembly-6/
END:VEVENT
BEGIN:VEVENT
DTSTART;TZID=Pacific/Auckland:20180816T090000
DTEND;TZID=Pacific/Auckland:20180816T150000
DTSTAMP:20260420T160932
CREATED:20180726T224821Z
LAST-MODIFIED:20180726T225558Z
UID:23397-1534410000-1534431600@www.murraysbay.school.nz
SUMMARY:Rippa / Tackle Rugby
DESCRIPTION:
URL:https://www.murraysbay.school.nz/event/school-cross-country/
END:VEVENT
BEGIN:VEVENT
DTSTART;TZID=Pacific/Auckland:20180815T090000
DTEND;TZID=Pacific/Auckland:20180815T130000
DTSTAMP:20260420T160932
CREATED:20180814T221739Z
LAST-MODIFIED:20180814T221739Z
UID:23452-1534323600-1534338000@www.murraysbay.school.nz
SUMMARY:Y5 - Real Learning Long Bay Wetlands Trip
DESCRIPTION:
URL:https://www.murraysbay.school.nz/event/y5-real-learning-long-bay-wetlands-trip/
END:VEVENT
BEGIN:VEVENT
DTSTART;TZID=Pacific/Auckland:20180815T080000
DTEND;TZID=Pacific/Auckland:20180815T170000
DTSTAMP:20260420T160932
CREATED:20180803T024019Z
LAST-MODIFIED:20180803T024019Z
UID:23414-1534320000-1534352400@www.murraysbay.school.nz
SUMMARY:Murrays Bay School Teacher Strike - School Closed
DESCRIPTION:
URL:https://www.murraysbay.school.nz/event/murrays-bay-school-teacher-strike-school-closed/
END:VEVENT
BEGIN:VEVENT
DTSTART;TZID=Pacific/Auckland:20180814T190000
DTEND;TZID=Pacific/Auckland:20180814T200000
DTSTAMP:20260420T160932
CREATED:20180130T012725Z
LAST-MODIFIED:20180130T012725Z
UID:22738-1534273200-1534276800@www.murraysbay.school.nz
SUMMARY:BOT Meeting
DESCRIPTION:7 – 8pm \nSchool Boardroom
URL:https://www.murraysbay.school.nz/event/bot-meeting-3/
END:VEVENT
BEGIN:VEVENT
DTSTART;TZID=Pacific/Auckland:20180814T083000
DTEND;TZID=Pacific/Auckland:20180814T143000
DTSTAMP:20260420T160932
CREATED:20180126T014051Z
LAST-MODIFIED:20180126T014051Z
UID:22456-1534235400-1534257000@www.murraysbay.school.nz
SUMMARY:Mid Bays Hockey - Save Day
DESCRIPTION:
URL:https://www.murraysbay.school.nz/event/mid-bays-hockey-save-day-3/
END:VEVENT
BEGIN:VEVENT
DTSTART;VALUE=DATE:20180814
DTEND;VALUE=DATE:20180815
DTSTAMP:20260420T160932
CREATED:20180227T205521Z
LAST-MODIFIED:20180227T205525Z
UID:22878-1534204800-1534291199@www.murraysbay.school.nz
SUMMARY:ICAS Mathematics
DESCRIPTION:
URL:https://www.murraysbay.school.nz/event/icas-mathematics/
END:VEVENT
BEGIN:VEVENT
DTSTART;TZID=Pacific/Auckland:20180809T090000
DTEND;TZID=Pacific/Auckland:20180809T150000
DTSTAMP:20260420T160932
CREATED:20180726T222954Z
LAST-MODIFIED:20180726T222954Z
UID:23391-1533805200-1533826800@www.murraysbay.school.nz
SUMMARY:Mufti Day - Kids Can Crazy Day
DESCRIPTION:
URL:https://www.murraysbay.school.nz/event/mufti-day-kids-can-crazy-day/
END:VEVENT
BEGIN:VEVENT
DTSTART;TZID=Pacific/Auckland:20180809T083000
DTEND;TZID=Pacific/Auckland:20180809T143000
DTSTAMP:20260420T160932
CREATED:20180126T014006Z
LAST-MODIFIED:20180126T014006Z
UID:22454-1533803400-1533825000@www.murraysbay.school.nz
SUMMARY:Mid Bays Hockey
DESCRIPTION:
URL:https://www.murraysbay.school.nz/event/mid-bays-hockey-4/
END:VEVENT
END:VCALENDAR