BEGIN:VCALENDAR
VERSION:2.0
PRODID:-//Murrays Bay Primary School - ECPv6.10.1.1//NONSGML v1.0//EN
CALSCALE:GREGORIAN
METHOD:PUBLISH
X-WR-CALNAME:Murrays Bay Primary School
X-ORIGINAL-URL:https://www.murraysbay.school.nz
X-WR-CALDESC:Events for Murrays Bay Primary School
REFRESH-INTERVAL;VALUE=DURATION:PT1H
X-Robots-Tag:noindex
X-PUBLISHED-TTL:PT1H
BEGIN:VTIMEZONE
TZID:Pacific/Auckland
BEGIN:STANDARD
TZOFFSETFROM:+1300
TZOFFSETTO:+1200
TZNAME:NZST
DTSTART:20190406T140000
END:STANDARD
BEGIN:DAYLIGHT
TZOFFSETFROM:+1200
TZOFFSETTO:+1300
TZNAME:NZDT
DTSTART:20190928T140000
END:DAYLIGHT
END:VTIMEZONE
BEGIN:VEVENT
DTSTART;TZID=Pacific/Auckland:20190521T090000
DTEND;TZID=Pacific/Auckland:20190521T103000
DTSTAMP:20260420T083449
CREATED:20190521T025235Z
LAST-MODIFIED:20190521T025235Z
UID:24720-1558429200-1558434600@www.murraysbay.school.nz
SUMMARY:Full School Assembly - 9:15am\, Waipapa
DESCRIPTION:
URL:https://www.murraysbay.school.nz/event/full-school-assembly-915am-waipapa-6/
END:VEVENT
BEGIN:VEVENT
DTSTART;TZID=Pacific/Auckland:20190517T090000
DTEND;TZID=Pacific/Auckland:20190517T150000
DTSTAMP:20260420T083449
CREATED:20181203T215003Z
LAST-MODIFIED:20181203T215003Z
UID:24004-1558083600-1558105200@www.murraysbay.school.nz
SUMMARY:Mid Bays Football Tournament - Save Date
DESCRIPTION:Ashley Reserve
URL:https://www.murraysbay.school.nz/event/mid-bays-football-tournament-save-date/
END:VEVENT
BEGIN:VEVENT
DTSTART;TZID=Pacific/Auckland:20190517T090000
DTEND;TZID=Pacific/Auckland:20190517T103000
DTSTAMP:20260420T083449
CREATED:20190312T023657Z
LAST-MODIFIED:20190312T023657Z
UID:24458-1558083600-1558089000@www.murraysbay.school.nz
SUMMARY:Full School Assembly - 9:15am\, Waipapa
DESCRIPTION:
URL:https://www.murraysbay.school.nz/event/full-school-assembly-915am-waipapa-5/
END:VEVENT
BEGIN:VEVENT
DTSTART;TZID=Pacific/Auckland:20190515T090000
DTEND;TZID=Pacific/Auckland:20190515T150000
DTSTAMP:20260420T083449
CREATED:20181203T210200Z
LAST-MODIFIED:20181203T210200Z
UID:24002-1557910800-1557932400@www.murraysbay.school.nz
SUMMARY:Mid Bays Football Tournament
DESCRIPTION:Ashley Reserve
URL:https://www.murraysbay.school.nz/event/mid-bays-football-tournament/
END:VEVENT
BEGIN:VEVENT
DTSTART;TZID=Pacific/Auckland:20190514T110000
DTEND;TZID=Pacific/Auckland:20190514T120000
DTSTAMP:20260420T083449
CREATED:20190502T215119Z
LAST-MODIFIED:20190502T215119Z
UID:24650-1557831600-1557835200@www.murraysbay.school.nz
SUMMARY:Kahui Ako Kapa Haka - Murrays Bay Primary School
DESCRIPTION:
URL:https://www.murraysbay.school.nz/event/kahui-ako-kapa-haka-murrays-bay-primary-school/
END:VEVENT
BEGIN:VEVENT
DTSTART;VALUE=DATE:20190513
DTEND;VALUE=DATE:20190518
DTSTAMP:20260420T083449
CREATED:20190312T023619Z
LAST-MODIFIED:20190312T023619Z
UID:24456-1557705600-1558137599@www.murraysbay.school.nz
SUMMARY:Bully-Free Week NZ
DESCRIPTION:
URL:https://www.murraysbay.school.nz/event/bully-free-week-nz/
END:VEVENT
BEGIN:VEVENT
DTSTART;TZID=Pacific/Auckland:20190510T090000
DTEND;TZID=Pacific/Auckland:20190510T143000
DTSTAMP:20260420T083449
CREATED:20190313T213950Z
LAST-MODIFIED:20190313T213950Z
UID:24471-1557478800-1557498600@www.murraysbay.school.nz
SUMMARY:Y2 Outdoor Education Day
DESCRIPTION:
URL:https://www.murraysbay.school.nz/event/y2-outdoor-education-day-2/
END:VEVENT
BEGIN:VEVENT
DTSTART;TZID=Pacific/Auckland:20190509T140000
DTEND;TZID=Pacific/Auckland:20190509T150000
DTSTAMP:20260420T083449
CREATED:20181213T011603Z
LAST-MODIFIED:20181213T011603Z
UID:24136-1557410400-1557414000@www.murraysbay.school.nz
SUMMARY:PTA Meeting - Staffroom 2:00pm
DESCRIPTION:
URL:https://www.murraysbay.school.nz/event/pta-meeting-staffroom-200pm-2/
END:VEVENT
BEGIN:VEVENT
DTSTART;VALUE=DATE:20190509
DTEND;VALUE=DATE:20190510
DTSTAMP:20260420T083449
CREATED:20190312T023544Z
LAST-MODIFIED:20190312T023544Z
UID:24454-1557360000-1557446399@www.murraysbay.school.nz
SUMMARY:PhotoLife Portraits
DESCRIPTION:
URL:https://www.murraysbay.school.nz/event/photolife-portraits/
END:VEVENT
BEGIN:VEVENT
DTSTART;VALUE=DATE:20190508
DTEND;VALUE=DATE:20190509
DTSTAMP:20260420T083449
CREATED:20190312T023510Z
LAST-MODIFIED:20190312T023510Z
UID:24452-1557273600-1557359999@www.murraysbay.school.nz
SUMMARY:PhotoLife Class Photos
DESCRIPTION:
URL:https://www.murraysbay.school.nz/event/photolife-class-photos/
END:VEVENT
BEGIN:VEVENT
DTSTART;TZID=Pacific/Auckland:20190507T110000
DTEND;TZID=Pacific/Auckland:20190507T120000
DTSTAMP:20260420T083449
CREATED:20190502T214406Z
LAST-MODIFIED:20190502T214406Z
UID:24648-1557226800-1557230400@www.murraysbay.school.nz
SUMMARY:Kahui Ako Kapa Haka - Murrays Bay Intermediate School
DESCRIPTION:
URL:https://www.murraysbay.school.nz/event/kahui-ako-kapa-haka-murrays-bay-intermediate-school/
END:VEVENT
BEGIN:VEVENT
DTSTART;TZID=Pacific/Auckland:20190503T090000
DTEND;TZID=Pacific/Auckland:20190503T103000
DTSTAMP:20260420T083449
CREATED:20190312T023426Z
LAST-MODIFIED:20190312T023426Z
UID:24450-1556874000-1556879400@www.murraysbay.school.nz
SUMMARY:Full School Assembly - 9:15am\, Waipapa
DESCRIPTION:
URL:https://www.murraysbay.school.nz/event/full-school-assembly-915am-waipapa-4/
END:VEVENT
BEGIN:VEVENT
DTSTART;TZID=Pacific/Auckland:20190430T090000
DTEND;TZID=Pacific/Auckland:20190430T130000
DTSTAMP:20260420T083449
CREATED:20190311T193439Z
LAST-MODIFIED:20190311T193439Z
UID:24442-1556614800-1556629200@www.murraysbay.school.nz
SUMMARY:Y3 Beach Trip
DESCRIPTION:
URL:https://www.murraysbay.school.nz/event/y3-beach-trip/
END:VEVENT
BEGIN:VEVENT
DTSTART;VALUE=DATE:20190429
DTEND;VALUE=DATE:20190430
DTSTAMP:20260420T083449
CREATED:20190312T023330Z
LAST-MODIFIED:20190312T023330Z
UID:24448-1556496000-1556582399@www.murraysbay.school.nz
SUMMARY:First Day Term 2
DESCRIPTION:
URL:https://www.murraysbay.school.nz/event/first-day-term-2/
END:VEVENT
BEGIN:VEVENT
DTSTART;TZID=Pacific/Auckland:20190412T091500
DTEND;TZID=Pacific/Auckland:20190412T101500
DTSTAMP:20260420T083449
CREATED:20190402T202010Z
LAST-MODIFIED:20190402T202010Z
UID:24552-1555060500-1555064100@www.murraysbay.school.nz
SUMMARY:ANZAC Assembly
DESCRIPTION:
URL:https://www.murraysbay.school.nz/event/anzac-assembly/
END:VEVENT
BEGIN:VEVENT
DTSTART;VALUE=DATE:20190412
DTEND;VALUE=DATE:20190413
DTSTAMP:20260420T083449
CREATED:20190312T023310Z
LAST-MODIFIED:20190312T023310Z
UID:24446-1555027200-1555113599@www.murraysbay.school.nz
SUMMARY:Last Day Term 1
DESCRIPTION:
URL:https://www.murraysbay.school.nz/event/last-day-term-1/
END:VEVENT
BEGIN:VEVENT
DTSTART;TZID=Pacific/Auckland:20190409T190000
DTEND;TZID=Pacific/Auckland:20190409T200000
DTSTAMP:20260420T083449
CREATED:20181213T011512Z
LAST-MODIFIED:20181213T011512Z
UID:24134-1554836400-1554840000@www.murraysbay.school.nz
SUMMARY:PTA Meeting - Staffroom 7:00pm
DESCRIPTION:
URL:https://www.murraysbay.school.nz/event/pta-meeting-staffroom-700pm-2/
END:VEVENT
BEGIN:VEVENT
DTSTART;TZID=Pacific/Auckland:20190405T150000
DTEND;TZID=Pacific/Auckland:20190405T190000
DTSTAMP:20260420T083449
CREATED:20181018T003241Z
LAST-MODIFIED:20181018T003241Z
UID:23736-1554476400-1554490800@www.murraysbay.school.nz
SUMMARY:PTA - Twilight Festival 2019
DESCRIPTION:Volunteers needed\, please email pta@murraysbay.school.nz
URL:https://www.murraysbay.school.nz/event/pta-twilight-festival-2019/
END:VEVENT
BEGIN:VEVENT
DTSTART;TZID=Pacific/Auckland:20190405T090000
DTEND;TZID=Pacific/Auckland:20190405T150000
DTSTAMP:20260420T083449
CREATED:20181203T195416Z
LAST-MODIFIED:20181203T195416Z
UID:24000-1554454800-1554476400@www.murraysbay.school.nz
SUMMARY:Mid Bays Swimming Tournament
DESCRIPTION:Northern Arena
URL:https://www.murraysbay.school.nz/event/mid-bays-swimming-tournament/
END:VEVENT
BEGIN:VEVENT
DTSTART;TZID=Pacific/Auckland:20190405T090000
DTEND;TZID=Pacific/Auckland:20190405T103000
DTSTAMP:20260420T083449
CREATED:20190227T211613Z
LAST-MODIFIED:20190227T211613Z
UID:24412-1554454800-1554460200@www.murraysbay.school.nz
SUMMARY:Full School Assembly - 9:15am\, Waipapa
DESCRIPTION:
URL:https://www.murraysbay.school.nz/event/full-school-assembly-915am-waipapa-3/
END:VEVENT
BEGIN:VEVENT
DTSTART;TZID=Pacific/Auckland:20190331T080000
DTEND;TZID=Pacific/Auckland:20190331T170000
DTSTAMP:20260420T083449
CREATED:20181213T011347Z
LAST-MODIFIED:20181213T011347Z
UID:24130-1554019200-1554051600@www.murraysbay.school.nz
SUMMARY:Shore to Shore Fun Run
DESCRIPTION:
URL:https://www.murraysbay.school.nz/event/shore-to-shore-fun-run/
END:VEVENT
BEGIN:VEVENT
DTSTART;TZID=Pacific/Auckland:20190328T093000
DTEND;TZID=Pacific/Auckland:20190328T143000
DTSTAMP:20260420T083449
CREATED:20181030T024555Z
LAST-MODIFIED:20181030T024555Z
UID:23776-1553765400-1553783400@www.murraysbay.school.nz
SUMMARY:Y5 Water Safety at Millennium
DESCRIPTION:
URL:https://www.murraysbay.school.nz/event/y5-water-safety-at-millennium/
END:VEVENT
BEGIN:VEVENT
DTSTART;TZID=Pacific/Auckland:20190327T120000
DTEND;TZID=Pacific/Auckland:20190327T130000
DTSTAMP:20260420T083449
CREATED:20190312T023220Z
LAST-MODIFIED:20190312T023220Z
UID:24444-1553688000-1553691600@www.murraysbay.school.nz
SUMMARY:ESOL - Shared Lunch\, Waipapa
DESCRIPTION:
URL:https://www.murraysbay.school.nz/event/esol-shared-lunch-waipapa/
END:VEVENT
BEGIN:VEVENT
DTSTART;TZID=Pacific/Auckland:20190326T190000
DTEND;TZID=Pacific/Auckland:20190326T200000
DTSTAMP:20260420T083449
CREATED:20181217T210946Z
LAST-MODIFIED:20181217T210946Z
UID:24163-1553626800-1553630400@www.murraysbay.school.nz
SUMMARY:BoT Meeting - Boardroom\, 7pm
DESCRIPTION:
URL:https://www.murraysbay.school.nz/event/bot-meeting-boardroom-7pm-2/
END:VEVENT
BEGIN:VEVENT
DTSTART;TZID=Pacific/Auckland:20190322T100000
DTEND;TZID=Pacific/Auckland:20190322T120000
DTSTAMP:20260420T083449
CREATED:20181213T011312Z
LAST-MODIFIED:20181213T011312Z
UID:24128-1553248800-1553256000@www.murraysbay.school.nz
SUMMARY:PTA - Sausage Sizzle
DESCRIPTION:
URL:https://www.murraysbay.school.nz/event/pta-sausage-sizzle-3/
END:VEVENT
BEGIN:VEVENT
DTSTART;TZID=Pacific/Auckland:20190322T090000
DTEND;TZID=Pacific/Auckland:20190322T103000
DTSTAMP:20260420T083449
CREATED:20190227T211534Z
LAST-MODIFIED:20190227T211534Z
UID:24410-1553245200-1553250600@www.murraysbay.school.nz
SUMMARY:Full School Assembly - 9:15am\, Waipapa
DESCRIPTION:
URL:https://www.murraysbay.school.nz/event/full-school-assembly-915am-waipapa-2/
END:VEVENT
BEGIN:VEVENT
DTSTART;VALUE=DATE:20190322
DTEND;VALUE=DATE:20190323
DTSTAMP:20260420T083449
CREATED:20190222T022632Z
LAST-MODIFIED:20190222T022632Z
UID:24361-1553212800-1553299199@www.murraysbay.school.nz
SUMMARY:Waterwise - Kereru MM
DESCRIPTION:
URL:https://www.murraysbay.school.nz/event/waterwise-kereru-mm/
END:VEVENT
BEGIN:VEVENT
DTSTART;TZID=Pacific/Auckland:20190321T190000
DTEND;TZID=Pacific/Auckland:20190321T203000
DTSTAMP:20260420T083449
CREATED:20190321T060034Z
LAST-MODIFIED:20190212T010206Z
UID:23717-1553194800-1553200200@www.murraysbay.school.nz
SUMMARY:NetSafe Parent Evening - 7pm\, Waipapa
DESCRIPTION:
URL:https://www.murraysbay.school.nz/event/netsafe-parent-evening-7pm-waipapa/
LOCATION:Waipapa (School Hall)
END:VEVENT
BEGIN:VEVENT
DTSTART;TZID=Pacific/Auckland:20190321T190000
DTEND;TZID=Pacific/Auckland:20190321T203000
DTSTAMP:20260420T083449
CREATED:20190212T010809Z
LAST-MODIFIED:20190212T022634Z
UID:24313-1553194800-1553200200@www.murraysbay.school.nz
SUMMARY:NetSafe Evening - 7pm Waipapa (School Hall)
DESCRIPTION:
URL:https://www.murraysbay.school.nz/event/netsafe-evening-7pm-waipapa-school-hall/
END:VEVENT
BEGIN:VEVENT
DTSTART;TZID=Pacific/Auckland:20190321T080000
DTEND;TZID=Pacific/Auckland:20190321T170000
DTSTAMP:20260420T083449
CREATED:20190222T022559Z
LAST-MODIFIED:20190222T022559Z
UID:24359-1553155200-1553187600@www.murraysbay.school.nz
SUMMARY:Waterwise - Kereru KK
DESCRIPTION:
URL:https://www.murraysbay.school.nz/event/waterwise-kereru-kk/
END:VEVENT
END:VCALENDAR