BEGIN:VCALENDAR
VERSION:2.0
PRODID:-//Murrays Bay Primary School - ECPv6.10.1.1//NONSGML v1.0//EN
CALSCALE:GREGORIAN
METHOD:PUBLISH
X-WR-CALNAME:Murrays Bay Primary School
X-ORIGINAL-URL:https://www.murraysbay.school.nz
X-WR-CALDESC:Events for Murrays Bay Primary School
REFRESH-INTERVAL;VALUE=DURATION:PT1H
X-Robots-Tag:noindex
X-PUBLISHED-TTL:PT1H
BEGIN:VTIMEZONE
TZID:Pacific/Auckland
BEGIN:STANDARD
TZOFFSETFROM:+1300
TZOFFSETTO:+1200
TZNAME:NZST
DTSTART:20200404T140000
END:STANDARD
BEGIN:DAYLIGHT
TZOFFSETFROM:+1200
TZOFFSETTO:+1300
TZNAME:NZDT
DTSTART:20200926T140000
END:DAYLIGHT
END:VTIMEZONE
BEGIN:VEVENT
DTSTART;VALUE=DATE:20200129
DTEND;VALUE=DATE:20200130
DTSTAMP:20260425T041633
CREATED:20200129T015817Z
LAST-MODIFIED:20200129T015817Z
UID:25616-1580256000-1580342399@www.murraysbay.school.nz
SUMMARY:Super Cluster Tennis
DESCRIPTION:venue TBC
URL:https://www.murraysbay.school.nz/event/super-cluster-tennis/
END:VEVENT
BEGIN:VEVENT
DTSTART;TZID=Pacific/Auckland:20200129T090000
DTEND;TZID=Pacific/Auckland:20200129T123000
DTSTAMP:20260425T041633
CREATED:20191209T005635Z
LAST-MODIFIED:20191209T005635Z
UID:25506-1580288400-1580301000@www.murraysbay.school.nz
SUMMARY:School Office Open
DESCRIPTION:Where possible please make an appointment with Mrs Ilse Hindle for new enrolments \nilse@murraysbay.school.nz
URL:https://www.murraysbay.school.nz/event/school-office-open-2/
END:VEVENT
END:VCALENDAR