BEGIN:VCALENDAR
VERSION:2.0
PRODID:-//Murrays Bay Primary School - ECPv6.10.1.1//NONSGML v1.0//EN
CALSCALE:GREGORIAN
METHOD:PUBLISH
X-ORIGINAL-URL:https://www.murraysbay.school.nz
X-WR-CALDESC:Events for Murrays Bay Primary School
REFRESH-INTERVAL;VALUE=DURATION:PT1H
X-Robots-Tag:noindex
X-PUBLISHED-TTL:PT1H
BEGIN:VTIMEZONE
TZID:Pacific/Auckland
BEGIN:STANDARD
TZOFFSETFROM:+1300
TZOFFSETTO:+1200
TZNAME:NZST
DTSTART:20190406T140000
END:STANDARD
BEGIN:DAYLIGHT
TZOFFSETFROM:+1200
TZOFFSETTO:+1300
TZNAME:NZDT
DTSTART:20190928T140000
END:DAYLIGHT
END:VTIMEZONE
BEGIN:VEVENT
DTSTART;TZID=Pacific/Auckland:20191218T083000
DTEND;TZID=Pacific/Auckland:20191218T090000
DTSTAMP:20260425T022600
CREATED:20191204T225245Z
LAST-MODIFIED:20191204T225245Z
UID:25492-1576657800-1576659600@www.murraysbay.school.nz
SUMMARY:2nd Chance Uniform Shop Open for Donations
DESCRIPTION:
URL:https://www.murraysbay.school.nz/event/2nd-chance-uniform-shop-open-for-donations/
END:VEVENT
END:VCALENDAR