BEGIN:VCALENDAR
VERSION:2.0
PRODID:-//Murrays Bay Primary School - ECPv6.10.1.1//NONSGML v1.0//EN
CALSCALE:GREGORIAN
METHOD:PUBLISH
X-ORIGINAL-URL:https://www.murraysbay.school.nz
X-WR-CALDESC:Events for Murrays Bay Primary School
REFRESH-INTERVAL;VALUE=DURATION:PT1H
X-Robots-Tag:noindex
X-PUBLISHED-TTL:PT1H
BEGIN:VTIMEZONE
TZID:Pacific/Auckland
BEGIN:STANDARD
TZOFFSETFROM:+1300
TZOFFSETTO:+1200
TZNAME:NZST
DTSTART:20190406T140000
END:STANDARD
BEGIN:DAYLIGHT
TZOFFSETFROM:+1200
TZOFFSETTO:+1300
TZNAME:NZDT
DTSTART:20190928T140000
END:DAYLIGHT
END:VTIMEZONE
BEGIN:VEVENT
DTSTART;VALUE=DATE:20191129
DTEND;VALUE=DATE:20191130
DTSTAMP:20260425T021336
CREATED:20191118T030330Z
LAST-MODIFIED:20191118T030330Z
UID:25403-1574985600-1575071999@www.murraysbay.school.nz
SUMMARY:Last Day to Issue Books - School Library
DESCRIPTION:
URL:https://www.murraysbay.school.nz/event/last-day-to-issue-books-school-library/
END:VEVENT
BEGIN:VEVENT
DTSTART;TZID=Pacific/Auckland:20191129T090000
DTEND;TZID=Pacific/Auckland:20191129T143000
DTSTAMP:20260425T021336
CREATED:20191118T025848Z
LAST-MODIFIED:20191118T025848Z
UID:25399-1575018000-1575037800@www.murraysbay.school.nz
SUMMARY:Waterwise - Kererū KK
DESCRIPTION:
URL:https://www.murraysbay.school.nz/event/waterwise-kereru-kk-3/
END:VEVENT
BEGIN:VEVENT
DTSTART;TZID=Pacific/Auckland:20191129T091500
DTEND;TZID=Pacific/Auckland:20191129T101500
DTSTAMP:20260425T021336
CREATED:20190926T024529Z
LAST-MODIFIED:20190926T024529Z
UID:25193-1575018900-1575022500@www.murraysbay.school.nz
SUMMARY:Full School Assembly - Waipapa
DESCRIPTION:
URL:https://www.murraysbay.school.nz/event/full-school-assembly-waipapa-5/
END:VEVENT
BEGIN:VEVENT
DTSTART;TZID=Pacific/Auckland:20191129T100000
DTEND;TZID=Pacific/Auckland:20191129T130000
DTSTAMP:20260425T021336
CREATED:20181213T014813Z
LAST-MODIFIED:20181213T014813Z
UID:24156-1575021600-1575032400@www.murraysbay.school.nz
SUMMARY:PTA Sausage Sizzle
DESCRIPTION:
URL:https://www.murraysbay.school.nz/event/pta-sausage-sizzle-6/
END:VEVENT
END:VCALENDAR