BEGIN:VCALENDAR
VERSION:2.0
PRODID:-//Murrays Bay Primary School - ECPv6.10.1.1//NONSGML v1.0//EN
CALSCALE:GREGORIAN
METHOD:PUBLISH
X-ORIGINAL-URL:https://www.murraysbay.school.nz
X-WR-CALDESC:Events for Murrays Bay Primary School
REFRESH-INTERVAL;VALUE=DURATION:PT1H
X-Robots-Tag:noindex
X-PUBLISHED-TTL:PT1H
BEGIN:VTIMEZONE
TZID:Pacific/Auckland
BEGIN:STANDARD
TZOFFSETFROM:+1300
TZOFFSETTO:+1200
TZNAME:NZST
DTSTART:20190406T140000
END:STANDARD
BEGIN:DAYLIGHT
TZOFFSETFROM:+1200
TZOFFSETTO:+1300
TZNAME:NZDT
DTSTART:20190928T140000
END:DAYLIGHT
END:VTIMEZONE
BEGIN:VEVENT
DTSTART;TZID=Pacific/Auckland:20190612T090000
DTEND;TZID=Pacific/Auckland:20190612T130000
DTSTAMP:20260425T232113
CREATED:20181203T215112Z
LAST-MODIFIED:20181203T215112Z
UID:24006-1560330000-1560344400@www.murraysbay.school.nz
SUMMARY:Super Cluster Cross Country
DESCRIPTION:Location TBC
URL:https://www.murraysbay.school.nz/event/super-cluster-cross-country/
END:VEVENT
BEGIN:VEVENT
DTSTART;TZID=Pacific/Auckland:20190612T090000
DTEND;TZID=Pacific/Auckland:20190612T143000
DTSTAMP:20260425T232113
CREATED:20190502T220901Z
LAST-MODIFIED:20190502T220901Z
UID:24654-1560330000-1560349800@www.murraysbay.school.nz
SUMMARY:Year 6 Mathex - Northcross Intermediate
DESCRIPTION:
URL:https://www.murraysbay.school.nz/event/year-6-mathex-northcross-intermediate/
END:VEVENT
END:VCALENDAR