BEGIN:VCALENDAR
VERSION:2.0
PRODID:-//Murrays Bay Primary School - ECPv6.10.1.1//NONSGML v1.0//EN
CALSCALE:GREGORIAN
METHOD:PUBLISH
X-ORIGINAL-URL:https://www.murraysbay.school.nz
X-WR-CALDESC:Events for Murrays Bay Primary School
REFRESH-INTERVAL;VALUE=DURATION:PT1H
X-Robots-Tag:noindex
X-PUBLISHED-TTL:PT1H
BEGIN:VTIMEZONE
TZID:Pacific/Auckland
BEGIN:STANDARD
TZOFFSETFROM:+1300
TZOFFSETTO:+1200
TZNAME:NZST
DTSTART:20190406T140000
END:STANDARD
BEGIN:DAYLIGHT
TZOFFSETFROM:+1200
TZOFFSETTO:+1300
TZNAME:NZDT
DTSTART:20190928T140000
END:DAYLIGHT
END:VTIMEZONE
BEGIN:VEVENT
DTSTART;TZID=Pacific/Auckland:20190528T090000
DTEND;TZID=Pacific/Auckland:20190528T120000
DTSTAMP:20260420T140348
CREATED:20190506T214852Z
LAST-MODIFIED:20190506T214852Z
UID:24664-1559034000-1559044800@www.murraysbay.school.nz
SUMMARY:School Cross Country
DESCRIPTION:
URL:https://www.murraysbay.school.nz/event/school-cross-country-3/
END:VEVENT
BEGIN:VEVENT
DTSTART;TZID=Pacific/Auckland:20190528T190000
DTEND;TZID=Pacific/Auckland:20190528T200000
DTSTAMP:20260420T140348
CREATED:20181217T211040Z
LAST-MODIFIED:20190509T012014Z
UID:24165-1559070000-1559073600@www.murraysbay.school.nz
SUMMARY:BoT Meeting - Boardroom\, 7pm
DESCRIPTION:
URL:https://www.murraysbay.school.nz/event/bot-meeting-boardroom-7pm-3/
END:VEVENT
END:VCALENDAR