BEGIN:VCALENDAR
VERSION:2.0
PRODID:-//Murrays Bay Primary School - ECPv6.10.1.1//NONSGML v1.0//EN
CALSCALE:GREGORIAN
METHOD:PUBLISH
X-ORIGINAL-URL:https://www.murraysbay.school.nz
X-WR-CALDESC:Events for Murrays Bay Primary School
REFRESH-INTERVAL;VALUE=DURATION:PT1H
X-Robots-Tag:noindex
X-PUBLISHED-TTL:PT1H
BEGIN:VTIMEZONE
TZID:Pacific/Auckland
BEGIN:STANDARD
TZOFFSETFROM:+1300
TZOFFSETTO:+1200
TZNAME:NZST
DTSTART:20190406T140000
END:STANDARD
BEGIN:DAYLIGHT
TZOFFSETFROM:+1200
TZOFFSETTO:+1300
TZNAME:NZDT
DTSTART:20190928T140000
END:DAYLIGHT
END:VTIMEZONE
BEGIN:VEVENT
DTSTART;TZID=Pacific/Auckland:20190523T080000
DTEND;TZID=Pacific/Auckland:20190523T170000
DTSTAMP:20260420T064646
CREATED:20181130T003855Z
LAST-MODIFIED:20181130T003855Z
UID:23971-1558598400-1558630800@www.murraysbay.school.nz
SUMMARY:Harbour Rugby Tournament
DESCRIPTION:
URL:https://www.murraysbay.school.nz/event/harbour-rugby-tournament/
END:VEVENT
END:VCALENDAR